BEGIN:VCALENDAR
VERSION:2.0
PRODID:-//chikkutakku.com//RDFCal 1.0//EN
X-WR-CALDESC:GoogleカレンダーやiCalendar形式情報を共有シェ
 アしましょう。近所のイベントから全国のイベントま
 で今日のイベント検索やスケジュールを決めるならち
 っくたっく
X-WR-CALNAME:ちっくたっく
X-WR-TIMEZONE:UTC
BEGIN:VEVENT
SUMMARY:最終楽章 響け！ユーフォニアム 前編
DTSTART;VALUE=DATE:20260425
DTEND;VALUE=DATE:20260427
UID:270719137184
DESCRIPTION:\n【関連/参考ページ】\nhttps://www.aeoncinema.com/cin
 ema/suzuka/ （イオンシネマ鈴鹿）\nhttps://eigakan.org/theaterpag
 e/schedule.php?t=euphosaisyuzenpen （「最終楽章 響け！ユーフ
 ォニアム 前編」劇場情報）
LOCATION:イオンシネマ鈴鹿【東海】
END:VEVENT
BEGIN:VEVENT
SUMMARY:名探偵コナン ハイウェイの堕天使
DTSTART;VALUE=DATE:20260424
DTEND;VALUE=DATE:20260428
UID:202439865559
DESCRIPTION:\n【関連/参考ページ】\nhttps://www.midland-sq-cinema.
 jp/topics_detail/1101 （ミッドナイトスクエアシネマ日本語
 字幕付上映のお知らせ）\nhttps://eigakan.org/theaterpage/schedul
 e.php?t=conanmovie2026 （「名探偵コナン ハイウェイの堕天
 使」劇場情報）
LOCATION:ミッドランドスクエアシネマ【東海】
END:VEVENT
BEGIN:VEVENT
SUMMARY:桑名市 つながる防災フェス・あそ防災
DTSTART;VALUE=DATE-TIME:20260429T013000Z
DTEND;VALUE=DATE-TIME:20260429T050000Z
UID:286642414397
DESCRIPTION:start 10:30 / end 14:00\n内容\n市長クイズ（情報保
 障あり）\n筆談・アプリ体験・難聴相談\n乗り物スポッ
 ト・警察犬\n地震消火器など\n入場・参加費：無料\n詳
 細は下記のサイトをご覧ください。\n主催\nわくわくフ
 レンズ子ども食堂\n桑名市\nお問い合わせ先\nわくわく
 フレンズフェス　よしおが\n090−5022‐3223\n（ショート
 メール）\n\n【関連/参考ページ】\nhttps://wakuwaku.kurumama246
 .com/2020/02/01/advocate/ （「つながる防災フェス・あそ防災
  」（わくわくフレンズ　桑名子ども食堂公式サイト内
 ））
LOCATION:コミニティプラザ【東海】
END:VEVENT
BEGIN:VEVENT
SUMMARY:私たちの話し方
DTSTART;VALUE=DATE:20260416
DTEND;VALUE=DATE:20260429
UID:507937640523
DESCRIPTION:上映時間\n4/ 17(金)〜４/22（水）14:40〜16:55\n４/2
 4（金）〜４/29（水）10:00〜12:15\n４/25（土）・４/27（水
 ）19:15〜21:30\n\n【関連/参考ページ】\nhttp://moviessearch.yaho
 o.co.jp/detail?ty=th&id=30094 （伊勢・進富座）\nhttps://shintomiza
 .whitesnow.jp/jouei/index.htm （伊勢進富座）\nhttps://theaters.jp/3
 0362 （「私たちの話し方」劇場情報）
LOCATION:伊勢・進富座【東海】
END:VEVENT
BEGIN:VEVENT
SUMMARY:シネマ歌舞伎 曽根崎心中
DTSTART;VALUE=DATE:20260425
DTEND;VALUE=DATE:20260430
UID:232802573187
DESCRIPTION:\n【関連/参考ページ】\nhttps://www.midland-sq-cinema.
 jp/topics_detail/1101 （ミッドランドスクエアシネマ日本語
 字幕付上映のお知らせ）\nhttps://www.shochiku.co.jp/cinemakabuki
 /news/3333/ （「シネマ歌舞伎『曽根崎心中』日本語字幕
 版　上映概要」）
LOCATION:ミッドランドスクエアシネマ【東海】
END:VEVENT
BEGIN:VEVENT
SUMMARY:【難聴者向け】手話教室
DTSTART;VALUE=DATE-TIME:20260507T043000Z
DTEND;VALUE=DATE-TIME:20260507T060000Z
UID:118376021328
DESCRIPTION:start 13:30 / end 15:00\n■内容\n5月 7日(木)「ことば
 を使ってみよう」\n6月11日(木)「名前・家族を紹介しよ
 う」\n7月 2日(木)「交通方法について話そう」\n8月 6日(
 木)「すきなことについて話そう」\n※原則として毎月
 第１木曜日\n■参加無料、申込不要\n▼問合せ▼\n三重
 県聴覚障害者支援センター\nTEL：059-223-3302\nFAX：059-223-33
 01\n\n【関連/参考ページ】\nhttps://www.deaf-mie-center.com/2026/0
 4/10/%E3%82%BB%E3%83%B3%E3%82%BF%E3%83%BC%E3%81%8B%E3%82%89%E3%81%AE%E3%81
 %8A%E7%9F%A5%E3%82%89%E3%81%9B-2026%E5%B9%B4%E5%BA%A6%E9%9B%A3%E8%81%B4%E8
 %80%85%E5%90%91%E3%81%91%E6%89%8B%E8%A9%B1%E6%95%99%E5%AE%A4/ （センタ
 ーからのお知らせ（令和8年度難聴者向け手話教室））
LOCATION:三重県聴覚障害者支援センター【東海】
END:VEVENT
BEGIN:VEVENT
SUMMARY:【要申込】桑名市 ジュニア・サミット 10周年記
 念シンポジウム
DTSTART;VALUE=DATE-TIME:20260509T043000Z
DTEND;VALUE=DATE-TIME:20260509T063000Z
UID:288299458738
DESCRIPTION:start 13:30 / end 15:30\n内容\n基調講演\n西村　訓弘
 　氏\n（三重大学大学院地域イノベーション学研究科教
 授）\nパネルディスカッション\n・ファシリテーター\n
 西村　訓弘　氏\n・鈴木　英敬　氏\n（衆議院議員、元
 三重県知事）\n・南田　あゆみ　氏\n（三菱UFJリサーチ&
 コンサルティング主任研究員）\n・2016ジュニアサミッ
 ト日本代表　3名\n・伊藤　徳宇　氏\n(桑名市長）\n情報
 保障：要約筆記・手話通訳・FM補聴援助\n参加費：無料\
 nお申込み：事前申込ありですが当日参加も可\n2026年4月
 30日（木曜日）\nお問合せ先\n桑名市 市長公室 ブランド
 推進課\nダイバーシティ国際推進係\nTEL:0594-26-1512 \nFAX:05
 94-24-2474\n\n【関連/参考ページ】\nhttps://logoform.jp/form/XAEm/
 1515846 （【一般】ジュニア・サミット10周年記念シンポ
 ジウム　お申込みフォーム）\nhttps://www.city.kuwana.lg.jp/bra
 nd/event/j10.html （「桑名市　ジュニア・サミット 10周年
 記念シンポジウム」（桑名市役所公式サイト内））
LOCATION:くわなメディアライヴ1階【東海】
END:VEVENT
BEGIN:VEVENT
SUMMARY:仮面ライダー『アギト−超能力戦争−』
DTSTART;VALUE=DATE:20260507
DTEND;VALUE=DATE:20260509
UID:261969306036
DESCRIPTION:\n【関連/参考ページ】\nhttps://www.aeoncinema.com/cin
 ema/oodaka/ （イオンシネマ大高）\nhttps://toei-screeninginfo.azu
 rewebsites.net/theaterlist/03011 （「仮面ライダー『アギト−
 超能力戦争−』」東映「仮面ライダー『アギト−超能
 力戦争−』」上映劇場情報）
LOCATION:イオンシネマ大高【東海】
END:VEVENT
BEGIN:VEVENT
SUMMARY:最終楽章 響け！ユーフォニアム 前編
DTSTART;VALUE=DATE:20260509
DTEND;VALUE=DATE:20260511
UID:314490635884
DESCRIPTION:\n【関連/参考ページ】\nhttps://www.midland-sq-cinema.
 jp/topics_detail/1101 （ミッドランドスクエアシネマ日本語
 字幕付上映のお知らせ）\nhttps://eigakan.org/theaterpage/schedul
 e.php?t=euphosaisyuzenpen （「最終楽章　響け！ユーフォニア
 ム　前編」劇場情報）
LOCATION:ミッドランドスクエアシネマ【東海】
END:VEVENT
BEGIN:VEVENT
SUMMARY:人はなぜラブレターを書くのか
DTSTART;VALUE=DATE:20260508
DTEND;VALUE=DATE:20260512
UID:773562517793
DESCRIPTION:\n【関連/参考ページ】\nhttps://www.midland-sq-cinema.
 jp/topics_detail/1101 （ミッドナイトスクエアシネマ日本語
 字幕付上映のお知らせ）\nhttps://eigakan.org/theaterpage/schedul
 e.php?t=lovelettertohomovie （「人はなぜラブレターを書くの
 か」劇場情報）
LOCATION:ミッドランドスクエアシネマ【東海】
END:VEVENT
BEGIN:VEVENT
SUMMARY:ONE OK ROCK DETOX JAPAN TOUR 2025 AT NISSAN STADIUM IN CINEMAS
DTSTART;VALUE=DATE:20260508
DTEND;VALUE=DATE:20260512
UID:174764395845
DESCRIPTION:\n【関連/参考ページ】\nhttps://www.midland-sq-cinema.
 jp/topics_detail/1101 （ミッドナイトスクエアシネマ日本語
 字幕付上映のお知らせ）\nhttps://eigakan.org/theaterpage/schedul
 e.php?t=oneokrockcinemas （「NE OK ROCK DETOX JAPAN TOUR 2025 AT NISSAN 
 STADIUM IN CINEMAS」上映劇場一覧）
LOCATION:ミッドランドスクエアシネマ【東海】
END:VEVENT
BEGIN:VEVENT
SUMMARY:【字幕プラネ ファミリー番組】「プラネタリウ
 ム ちびまる子ちゃん 南十字星に魅せられて」
DTSTART;VALUE=DATE-TIME:20260516T022000Z
DTEND;VALUE=DATE-TIME:20260516T031500Z
UID:978948440362
DESCRIPTION:start 11:20 / end 12:15\n内容\n観覧料\n一般（大人）
 ：550円\n高・大学生：390円\n小・中学生：210円\n幼児：
 無料\n団体割引、障害者割引があります。\n休館日\n月
 曜日（祝休日の場合は翌平日）\n※座席券は投映当日の
 開館時刻９：30から、各投映開始時刻まで、当日券のみ
 販売します。満席になり次第販売終了となります。\n※
 投映時間は入場を含めて約55分です。職員による生解説
 を含むため、終了予定時刻は前後する場合があります
 。あらかじめご了承ください。\n※途中入場はできませ
 ん。\n※車椅子用リフト、ヒアリングループ（磁気ルー
 プ）補聴システムを設置しています。\nお問合せ先\n四
 日市市立博物館・プラネタリウム\n〒510-0075 三重県四日
 市市安島一丁目３番16号\nTEL:059-355-2700（代表）　\nFAX:059
 -355-2704　\nEメール: hakubutsukan@city.yokkaichi.mie.jp\n\n【関連/
 参考ページ】\nhttps://www.city.yokkaichi.lg.jp/www/contents/17727623
 88296/index.html （「【字幕プラネ　ファミリー番組】「プ
 ラネタリウム　ちびまる子ちゃん　南十字星に魅せら
 れて」」（四日市市役所公式サイト内））
LOCATION:四日市市立博物館 5階【東海】
END:VEVENT
BEGIN:VEVENT
SUMMARY:【字幕プラネ・一般番組】「ORIGIN 〜太陽系のは
 じまりを求めて〜」
DTSTART;VALUE=DATE-TIME:20260516T040500Z
DTEND;VALUE=DATE-TIME:20260516T050000Z
UID:313480307350
DESCRIPTION:start 13:05 / end 14:00\n内容\n観覧料\n一般（大人）
 ：550円\n高・大学生：390円\n小・中学生：210円\n幼児：
 無料\n団体割引、障害者割引があります。\n休館日\n月
 曜日（祝休日の場合は翌平日）\n※座席券は投映当日の
 開館時刻９：30から、各投映開始時刻まで、当日券のみ
 販売します。満席になり次第販売終了となります。\n※
 投映時間は入場を含めて約55分です。職員による生解説
 を含むため、終了予定時刻は前後する場合があります
 。あらかじめご了承ください。\n※途中入場はできませ
 ん。\n※車椅子用リフト、ヒアリングループ（磁気ルー
 プ）補聴システムを設置しています。\nお問合せ先\n四
 日市市立博物館・プラネタリウム\n〒510-0075 三重県四日
 市市安島一丁目３番16号\nTEL:059-355-2700（代表）　\nFAX:059
 -355-2704　\nEメール: hakubutsukan@city.yokkaichi.mie.jp\n\n【関連/
 参考ページ】\nhttps://www.city.yokkaichi.lg.jp/www/contents/17727623
 88296/index.html （「【字幕プラネ・一般番組】「ＯＲＩＧ
 ＩＮ　〜太陽系のはじまりを求めて〜」」（四日市市
 役所公式サイト内））
LOCATION:四日市市立博物館 5階【東海】
END:VEVENT
BEGIN:VEVENT
SUMMARY:【申込終了】三重県 「三重のまなび2026 相川七瀬
 講演会
DTSTART;VALUE=DATE-TIME:20260516T050000Z
DTEND;VALUE=DATE-TIME:20260516T060000Z
UID:244920485453
DESCRIPTION:start 14:00 / end 15:00\n内容\nテーマ「まつりで繋
 がる世界」\n第１部　講演会\n講師:相川七瀬　氏(歌手)\
 n第２部　鼎談：相川七瀬　氏、\n櫻井治男　氏（皇學
 館大学名誉教授）\n福田良彦　氏（三重県総合博物館学
 芸員）\n情報保障:要約筆記・手話通訳\n参加費：無料\n
 要申込\n申込方法\n代表者のお名前（ふりがな）・住所
 ・電話番号・参加者全員のお名前（ふりがな）をご記
 入ください。（電話・FAX・ホームページ・郵送で受付
 ）\n※休館中の為、窓口での受付対応はありません。\n
 ※4月下旬ごろに受講証（はがき）を送付します。講演
 会当日にご持参ください。\n申込締切※4月19日（日曜日
 ）まで\nお問合せ先\n三重県総合文化センター 生涯学習
 センター棟\n所在地 ：〒514-0061 三重県津市一身田上津
 部田1234\nTEL：059-233-1151\nFAX：059-233-1155\n手話通訳　要約
 筆記　託児あり（要事前申込）\n共催　三重県総合博物
 館\n\n【関連/参考ページ】\nhttps://www.center-mie.or.jp/manabi/e
 vent/sponsor/detail/56939 （「三重県　「三重のまなび２０２
 ６　相川七瀬講演会」（三重県生涯学習センター公式
 サイト内））
LOCATION:三重県総合文化センター【東海】
END:VEVENT
BEGIN:VEVENT
SUMMARY:【情報保障 要申込】三重県立美術館 生誕100年 榊
 莫山展 2026年度展示「スライド・トーク」
DTSTART;VALUE=DATE:20260515
DTEND;VALUE=DATE:20260516
UID:167790077918
DESCRIPTION:open 13:30 / start 14:00\n内容\n「担当学芸員による
 スライド・トーク」\n情報保障:要約筆記・手話通訳\n※
 ２週間前までにご相談。\n参加費：無料\n申込み：不要\
 n定員：140名（当日先着順）\nお申込・お問合せ先\n三重
 県立美術館\n〒514-0007　三重県津市大谷町11番地\nTEL. 059-
 227-2100（代表）\nFAX. 059-223-0570\nE-mail: bijutsu2@pref.mie.lg.jp\n
 \n【関連/参考ページ】\nhttp://www.museum.pref.mie.jp/miekenbi/ 
 （三重県立美術館）\nhttps://www.bunka.pref.mie.lg.jp/art-museum/0
 00308880.htm （「三重県立美術館 生誕100年 榊莫山展 2026年
 度展示「スライド・トーク」」（三重県立美術館公式
 サイト内））
LOCATION:三重県立美術館【東海】
END:VEVENT
BEGIN:VEVENT
SUMMARY:【情報保障要申込】三重県立美術館 トークイベ
 ント「いっしょに見てみよう！雪斎のトンボの絵」
DTSTART;VALUE=DATE:20260516
DTEND;VALUE=DATE:20260517
UID:175674231069
DESCRIPTION:start 14:00\n内容\n「いっしょに見てみよう！雪
 斎のトンボの絵」\n話し手：\n大島　康宏氏（三重県総
 合博物館　昆虫担当学芸員）\n村上　敬氏（三重県立美
 術館　近世美術担当学芸員）\n情報保障:要約筆記・手
 話通訳\n※２週間前までに要申込\n参加費：観覧券必要\
 nお問合せ先\n三重県立美術館\n〒514-0007　三重県津市大
 谷町11番地\nTEL. 059-227-2100（代表）\nFAX. 059-223-0570\nE-mail: 
 bijutsu2@pref.mie.lg.jp\n\n【関連/参考ページ】\nhttp://www.museum
 .pref.mie.jp/miekenbi/ （三重県立美術館）\nhttps://www.bunka.pref
 .mie.lg.jp/art-museum/000308883.htm （「三重県立美術館　トー
 クイベント「いっしょに見てみよう！雪斎のトンボの
 絵」」（三重県立美術館公式サイト内））
LOCATION:三重県立美術館【東海】
END:VEVENT
BEGIN:VEVENT
SUMMARY:SAKAMOTO DAYS
DTSTART;VALUE=DATE:20260515
DTEND;VALUE=DATE:20260519
UID:248009838740
DESCRIPTION:\n【関連/参考ページ】\nhttps://www.midland-sq-cinema.
 jp/topics_detail/1101 （ミッドナイトスクエアシネマ日本語
 字幕付上映のお知らせ）\nhttps://eigakan.org/theaterpage/schedul
 e.php?t=skmtdaysmovie （「SAKAMOTO DAYS」劇場情報）
LOCATION:ミッドランドスクエアシネマ【東海】
END:VEVENT
BEGIN:VEVENT
SUMMARY:【要申込】津市 転倒予防教室
DTSTART;VALUE=DATE-TIME:20260522T010000Z
DTEND;VALUE=DATE-TIME:20260522T020000Z
UID:233824195819
DESCRIPTION:start 10:00 / end 11:00\n内容\n講義　\n転倒予防体操
 \n情報保障：要約筆記（講義部分のみ）\n※事前に要申
 込\n参加費：無料\nお申込・お問合せ先：\n津市社会福
 祉協議会 地域福祉課\nTEL：059-213-7111\nFAX：059-224-6067\nMail
 ： honbu-chiiki@tsu-shakyo.or.jp\n\n【関連/参考ページ】\nhttps:/
 /www.tsu-shakyo.or.jp/welfare/kaigoyobou.html （「津市　転倒予防
 教室」（津市社会福祉協議会公式サイト内））
LOCATION:津市センターパレス 地下1階【東海】
END:VEVENT
END:VCALENDAR
