BEGIN:VCALENDAR
VERSION:2.0
PRODID:-//chikkutakku.com//RDFCal 1.0//EN
X-WR-CALDESC:GoogleカレンダーやiCalendar形式情報を共有シェ
 アしましょう。近所のイベントから全国のイベントま
 で今日のイベント検索やスケジュールを決めるならち
 っくたっく
X-WR-CALNAME:ちっくたっく
X-WR-TIMEZONE:UTC
BEGIN:VEVENT
SUMMARY:日本英語学会国際春季フォーラム2026（The English Li
 nguistic Society of Japan 19th International Spring Forum）
DTSTART;VALUE=DATE:20260522
DTEND;VALUE=DATE:20260524
UID:177762863288
DESCRIPTION:日時：2026年5月23日（土）・24日（日）\n\n場所
 ：島根大学
LOCATION:
END:VEVENT
END:VCALENDAR
