BEGIN:VCALENDAR
VERSION:2.0
PRODID:-//chikkutakku.com//RDFCal 1.0//EN
X-WR-CALDESC:GoogleカレンダーやiCalendar形式情報を共有シェ
 アしましょう。近所のイベントから全国のイベントま
 で今日のイベント検索やスケジュールを決めるならち
 っくたっく
X-WR-CALNAME:ちっくたっく
X-WR-TIMEZONE:UTC
BEGIN:VEVENT
SUMMARY:規制委　核燃料施設等の新規制基準適合性に係る
 審査会合
DTSTART;VALUE=DATE:20260426
DTEND;VALUE=DATE:20260427
UID:125669146233
DESCRIPTION:規制委　核燃料施設等の新規制基準適合性に
 係る審査会合
LOCATION:
END:VEVENT
BEGIN:VEVENT
SUMMARY:規制委　もんじゅ廃止措置安全監視チーム
DTSTART;VALUE=DATE:20260426
DTEND;VALUE=DATE:20260427
UID:221735365033
DESCRIPTION:規制委　もんじゅ廃止措置安全監視チーム
LOCATION:
END:VEVENT
BEGIN:VEVENT
SUMMARY:規制委　原子力規制委員会
DTSTART;VALUE=DATE:20260427
DTEND;VALUE=DATE:20260428
UID:120860775857
DESCRIPTION:規制委　原子力規制委員会
LOCATION:
END:VEVENT
END:VCALENDAR
