BEGIN:VCALENDAR
VERSION:2.0
PRODID:-//chikkutakku.com//RDFCal 1.0//EN
X-WR-CALDESC:GoogleカレンダーやiCalendar形式情報を共有シェ
 アしましょう。近所のイベントから全国のイベントま
 で今日のイベント検索やスケジュールを決めるならち
 っくたっく
X-WR-CALNAME:ちっくたっく
X-WR-TIMEZONE:UTC
BEGIN:VEVENT
SUMMARY:栄養基礎演習Ⅰ
DTSTART;VALUE=DATE-TIME:20260423T234000Z
DTEND;VALUE=DATE-TIME:20260424T011000Z
UID:133558302192
DESCRIPTION:(林/門) 305
LOCATION:
END:VEVENT
BEGIN:VEVENT
SUMMARY:人間学
DTSTART;VALUE=DATE-TIME:20260424T012000Z
DTEND;VALUE=DATE-TIME:20260424T025000Z
UID:171310041497
DESCRIPTION:(桂井) 講堂
LOCATION:
END:VEVENT
BEGIN:VEVENT
SUMMARY:調理学
DTSTART;VALUE=DATE-TIME:20260424T033000Z
DTEND;VALUE=DATE-TIME:20260424T050000Z
UID:231710501359
DESCRIPTION:(門) 305
LOCATION:
END:VEVENT
BEGIN:VEVENT
SUMMARY:■休講 食品学総論
DTSTART;VALUE=DATE-TIME:20260424T051000Z
DTEND;VALUE=DATE-TIME:20260424T064000Z
UID:433444411136
DESCRIPTION:(石井) 305
LOCATION:(石井) 305
END:VEVENT
BEGIN:VEVENT
SUMMARY:■休講 食品学実験
DTSTART;VALUE=DATE-TIME:20260424T065000Z
DTEND;VALUE=DATE-TIME:20260424T082000Z
UID:126185747936
DESCRIPTION:(石井) 実験室
LOCATION:(石井) 実験室
END:VEVENT
BEGIN:VEVENT
SUMMARY:■休講 食品学実験
DTSTART;VALUE=DATE-TIME:20260424T083000Z
DTEND;VALUE=DATE-TIME:20260424T100000Z
UID:238540615045
DESCRIPTION:(石井) 実験室
LOCATION:(石井) 実験室
END:VEVENT
BEGIN:VEVENT
SUMMARY:■休講 とかちの食と産業Ⅰ
DTSTART;VALUE=DATE-TIME:20260427T012000Z
DTEND;VALUE=DATE-TIME:20260427T025000Z
UID:638617698464
DESCRIPTION:(石井/石澤) 講堂
LOCATION:(石井/石澤) 講堂
END:VEVENT
BEGIN:VEVENT
SUMMARY:栄養学総論
DTSTART;VALUE=DATE-TIME:20260427T033000Z
DTEND;VALUE=DATE-TIME:20260427T050000Z
UID:251169988284
DESCRIPTION:(林) 304
LOCATION:
END:VEVENT
BEGIN:VEVENT
SUMMARY:公衆衛生学
DTSTART;VALUE=DATE-TIME:20260427T051000Z
DTEND;VALUE=DATE-TIME:20260427T064000Z
UID:288425866506
DESCRIPTION:(林) 304
LOCATION:
END:VEVENT
BEGIN:VEVENT
SUMMARY:手話の世界
DTSTART;VALUE=DATE-TIME:20260427T065000Z
DTEND;VALUE=DATE-TIME:20260427T082000Z
UID:282987819605
DESCRIPTION:(髙野) 301
LOCATION:
END:VEVENT
BEGIN:VEVENT
SUMMARY:■休講 とかちと食Ⅰ
DTSTART;VALUE=DATE-TIME:20260427T234000Z
DTEND;VALUE=DATE-TIME:20260428T011000Z
UID:297587482588
DESCRIPTION:(専任) 305
LOCATION:(専任) 305
END:VEVENT
BEGIN:VEVENT
SUMMARY:栄養指導概論
DTSTART;VALUE=DATE-TIME:20260428T033000Z
DTEND;VALUE=DATE-TIME:20260428T050000Z
UID:210526566553
DESCRIPTION:(林) 305
LOCATION:
END:VEVENT
BEGIN:VEVENT
SUMMARY:体育実技Ⅰ
DTSTART;VALUE=DATE-TIME:20260428T051000Z
DTEND;VALUE=DATE-TIME:20260428T064000Z
UID:277226490559
DESCRIPTION:(川岸) ｱﾘｰﾅ
LOCATION:
END:VEVENT
BEGIN:VEVENT
SUMMARY:栄養指導情報論実習
DTSTART;VALUE=DATE-TIME:20260428T065000Z
DTEND;VALUE=DATE-TIME:20260428T082000Z
UID:211287764093
DESCRIPTION:(石井) 406
LOCATION:
END:VEVENT
BEGIN:VEVENT
SUMMARY:入門情報処理
DTSTART;VALUE=DATE-TIME:20260428T083000Z
DTEND;VALUE=DATE-TIME:20260428T100000Z
UID:214247206413
DESCRIPTION:(石井) 
LOCATION:
END:VEVENT
BEGIN:VEVENT
SUMMARY:解剖生理学
DTSTART;VALUE=DATE-TIME:20260430T012000Z
DTEND;VALUE=DATE-TIME:20260430T025000Z
UID:464181310687
DESCRIPTION:(関川) 305
LOCATION:
END:VEVENT
BEGIN:VEVENT
SUMMARY:ビジネスコミュニケーションⅠ
DTSTART;VALUE=DATE-TIME:20260430T033000Z
DTEND;VALUE=DATE-TIME:20260430T050000Z
UID:151141082200
DESCRIPTION:(高橋(好)) 305
LOCATION:
END:VEVENT
BEGIN:VEVENT
SUMMARY:栄養基礎演習Ⅰ
DTSTART;VALUE=DATE-TIME:20260430T234000Z
DTEND;VALUE=DATE-TIME:20260501T011000Z
UID:152816332987
DESCRIPTION:(林/門) 305
LOCATION:
END:VEVENT
BEGIN:VEVENT
SUMMARY:人間学
DTSTART;VALUE=DATE-TIME:20260501T012000Z
DTEND;VALUE=DATE-TIME:20260501T025000Z
UID:227514730820
DESCRIPTION:(桂井) 講堂
LOCATION:
END:VEVENT
BEGIN:VEVENT
SUMMARY:調理学
DTSTART;VALUE=DATE-TIME:20260501T033000Z
DTEND;VALUE=DATE-TIME:20260501T050000Z
UID:330718533835
DESCRIPTION:(門) 305
LOCATION:
END:VEVENT
BEGIN:VEVENT
SUMMARY:食品学総論
DTSTART;VALUE=DATE-TIME:20260501T051000Z
DTEND;VALUE=DATE-TIME:20260501T064000Z
UID:932985174874
DESCRIPTION:(石井) 305
LOCATION:
END:VEVENT
BEGIN:VEVENT
SUMMARY:食品学実験
DTSTART;VALUE=DATE-TIME:20260501T065000Z
DTEND;VALUE=DATE-TIME:20260501T082000Z
UID:317084761950
DESCRIPTION:(石井) 実験室
LOCATION:
END:VEVENT
BEGIN:VEVENT
SUMMARY:食品学実験
DTSTART;VALUE=DATE-TIME:20260501T083000Z
DTEND;VALUE=DATE-TIME:20260501T100000Z
UID:339148851117
DESCRIPTION:(石井) 実験室
LOCATION:
END:VEVENT
BEGIN:VEVENT
SUMMARY:解剖生理学
DTSTART;VALUE=DATE-TIME:20260507T012000Z
DTEND;VALUE=DATE-TIME:20260507T025000Z
UID:187074088027
DESCRIPTION:(関川) 305
LOCATION:
END:VEVENT
BEGIN:VEVENT
SUMMARY:ビジネスコミュニケーションⅠ
DTSTART;VALUE=DATE-TIME:20260507T033000Z
DTEND;VALUE=DATE-TIME:20260507T050000Z
UID:261058084304
DESCRIPTION:(高橋(好)) 305
LOCATION:
END:VEVENT
BEGIN:VEVENT
SUMMARY:栄養基礎演習Ⅰ
DTSTART;VALUE=DATE-TIME:20260507T234000Z
DTEND;VALUE=DATE-TIME:20260508T011000Z
UID:804159280918
DESCRIPTION:(林/門) 305
LOCATION:
END:VEVENT
BEGIN:VEVENT
SUMMARY:人間学
DTSTART;VALUE=DATE-TIME:20260508T012000Z
DTEND;VALUE=DATE-TIME:20260508T025000Z
UID:380609484190
DESCRIPTION:(桂井) 講堂
LOCATION:
END:VEVENT
BEGIN:VEVENT
SUMMARY:調理学
DTSTART;VALUE=DATE-TIME:20260508T033000Z
DTEND;VALUE=DATE-TIME:20260508T050000Z
UID:166826325413
DESCRIPTION:(門) 305
LOCATION:
END:VEVENT
BEGIN:VEVENT
SUMMARY:食品学総論
DTSTART;VALUE=DATE-TIME:20260508T051000Z
DTEND;VALUE=DATE-TIME:20260508T064000Z
UID:121652270872
DESCRIPTION:(石井) 305
LOCATION:
END:VEVENT
BEGIN:VEVENT
SUMMARY:食品学実験
DTSTART;VALUE=DATE-TIME:20260508T065000Z
DTEND;VALUE=DATE-TIME:20260508T082000Z
UID:289161318950
DESCRIPTION:(石井) 実験室
LOCATION:
END:VEVENT
BEGIN:VEVENT
SUMMARY:食品学実験
DTSTART;VALUE=DATE-TIME:20260508T083000Z
DTEND;VALUE=DATE-TIME:20260508T100000Z
UID:275115886126
DESCRIPTION:(石井) 実験室
LOCATION:
END:VEVENT
END:VCALENDAR
