BEGIN:VCALENDAR
VERSION:2.0
PRODID:-//chikkutakku.com//RDFCal 1.0//EN
X-WR-CALDESC:GoogleカレンダーやiCalendar形式情報を共有シェ
 アしましょう。近所のイベントから全国のイベントま
 で今日のイベント検索やスケジュールを決めるならち
 っくたっく
X-WR-CALNAME:ちっくたっく
X-WR-TIMEZONE:UTC
BEGIN:VEVENT
SUMMARY:8:45～21:00開館
DTSTART;VALUE=DATE:20260426
DTEND;VALUE=DATE:20260501
UID:212597260163
DESCRIPTION:8:45～21:00開館
LOCATION:
END:VEVENT
BEGIN:VEVENT
SUMMARY:8:45～21:00開館
DTSTART;VALUE=DATE:20260507
DTEND;VALUE=DATE:20260508
UID:245027758907
DESCRIPTION:8:45～21:00開館
LOCATION:
END:VEVENT
BEGIN:VEVENT
SUMMARY:8:45～21:00開館
DTSTART;VALUE=DATE:20260510
DTEND;VALUE=DATE:20260515
UID:438576434160
DESCRIPTION:8:45～21:00開館
LOCATION:
END:VEVENT
BEGIN:VEVENT
SUMMARY: 8:45～21:00開館
DTSTART;VALUE=DATE:20260517
DTEND;VALUE=DATE:20260522
UID:242098098695
DESCRIPTION: 8:45～21:00開館
LOCATION:
END:VEVENT
END:VCALENDAR
