BEGIN:VCALENDAR
VERSION:2.0
PRODID:-//chikkutakku.com//RDFCal 1.0//EN
X-WR-CALDESC:GoogleカレンダーやiCalendar形式情報を共有シェ
 アしましょう。近所のイベントから全国のイベントま
 で今日のイベント検索やスケジュールを決めるならち
 っくたっく
X-WR-CALNAME:ちっくたっく
X-WR-TIMEZONE:UTC
BEGIN:VEVENT
SUMMARY:Bouldering and Beers
DTSTART;VALUE=DATE-TIME:20260424T070000Z
DTEND;VALUE=DATE-TIME:20260424T093000Z
UID:731217646697
DESCRIPTION:Bouldering and Beers
LOCATION:Urban Climb West End\, 2/220 Montague Rd\, West End QLD 4101\, Au
 stralia
END:VEVENT
BEGIN:VEVENT
SUMMARY:GameJam GameDev Workshop
DTSTART;VALUE=DATE-TIME:20260429T060000Z
DTEND;VALUE=DATE-TIME:20260429T080000Z
UID:965380894194
DESCRIPTION:GameJam GameDev Workshop
LOCATION:
END:VEVENT
BEGIN:VEVENT
SUMMARY:How to CodeJam
DTSTART;VALUE=DATE-TIME:20260430T060000Z
DTEND;VALUE=DATE-TIME:20260430T080000Z
UID:147343664306
DESCRIPTION:How to CodeJam
LOCATION:50-N201\, Hawken Engineering
END:VEVENT
BEGIN:VEVENT
SUMMARY:CodeJam
DTSTART;VALUE=DATE:20260502
DTEND;VALUE=DATE:20260503
UID:816595159204
DESCRIPTION:CodeJam
LOCATION:ModWest Building (11A)\, St Lucia QLD 4067\, Australia
END:VEVENT
BEGIN:VEVENT
SUMMARY:What is GameJam
DTSTART;VALUE=DATE-TIME:20260507T060000Z
DTEND;VALUE=DATE-TIME:20260507T080000Z
UID:310538210911
DESCRIPTION:What is GameJam
LOCATION:50-N201\, Hawken Engineering
END:VEVENT
BEGIN:VEVENT
SUMMARY:GameJam
DTSTART;VALUE=DATE:20260507
DTEND;VALUE=DATE:20260510
UID:264575295745
DESCRIPTION:GameJam
LOCATION:Advanced Engineering Building (49)\, Staff House Rd\, St Lucia QL
 D 4067\, Australia
END:VEVENT
END:VCALENDAR
