BEGIN:VCALENDAR
VERSION:2.0
PRODID:-//chikkutakku.com//RDFCal 1.0//EN
X-WR-CALDESC:GoogleカレンダーやiCalendar形式情報を共有シェ
 アしましょう。近所のイベントから全国のイベントま
 で今日のイベント検索やスケジュールを決めるならち
 っくたっく
X-WR-CALNAME:ちっくたっく
X-WR-TIMEZONE:UTC
BEGIN:VEVENT
SUMMARY:CIS Computing Systems Student Field Day
DTSTART;VALUE=DATE-TIME:20260428T193000Z
DTEND;VALUE=DATE-TIME:20260428T213000Z
UID:767524565219
DESCRIPTION:CIS Computing Systems Student Field Day
LOCATION:(Mississippi Room [room 321] and conference rooms 303 & 323) Coff
 man Memorial Union\, 300 Washington Ave SE\, Minneapolis\, MN 55455\, USA
END:VEVENT
BEGIN:VEVENT
SUMMARY:CSE Design Show - Spring 2026
DTSTART;VALUE=DATE-TIME:20260428T184500Z
DTEND;VALUE=DATE-TIME:20260428T230000Z
UID:153543634801
DESCRIPTION:"Core" hours for each group  Sr. Design : 2:30 to 5:00 pm  E
 E1301 : 2:30 to 3:45 pm  CSE1012 : 4:30-5:30 pm  SCALE Networking : 4:30
 -5:30pmActive working schedule here:https://docs.google.com/spreadsheets/d
 /1Oimc9bLJaIXEXofD0ZS3s2I6ElFyy6LQNpz0b1fSDm8/edit?gid=2109995946#gid=2109
 995946CSE Design Show - Spring 2026Tuesday\, April 28\, 1:45-6:00pmStart T
 ime-End TimeGreat Hall (Basement)Mississippi (3rd Floor)Duration12:01 PM12
 :01 PMOpen for SetupOpen for Setup01:30 PM-1:45 PMAV Check151:45 PM-2:00 P
 MEE1301 First Shift Setup + AV Check152:00 PM-2:30 PMSr. Design SetupEE130
 1 First Shift Grading (Opt)302:30 PM-3:00 PMSr. Des BeginsEE1301 First Shi
 ft Grading (Required)303:00 PM-3:15 PMEE1301 Second Shift Setup153:15 PM-3
 :45 PMSr. Des EndsEE1301 Second Shift Grading (Required)303:45 PM-4:15 PMS
 r. Design TeardownEE1301 Second Shift Grading (Opt)304:15 PM-4:30 PMCSE101
 2 Setup154:30 PM-5:30 PMCSE1012 Show + Food \; SCALE Networking605:30 PM-6
 :00 PMClean Up306:00 PM-6:00 PMRoom Clear0Spring 2026Tues\, April 28Great 
 HallEvent: F4310Also booked (for ECE): Mississippi room and conference ro
 oms 303 &amp\; 323
LOCATION:Coffman Memorial Union\, 300 Washington Ave SE\, Minneapolis\, MN
  55455\, USA
END:VEVENT
BEGIN:VEVENT
SUMMARY:CIS African American Studies Student Field Day
DTSTART;VALUE=DATE-TIME:20260430T143000Z
DTEND;VALUE=DATE-TIME:20260430T183000Z
UID:279541596455
DESCRIPTION:CIS African American Studies Student Field Day
LOCATION:Elmer L. Andersen Library\, 222 21st Ave S\, Minneapolis\, MN 554
 55\, USA
END:VEVENT
BEGIN:VEVENT
SUMMARY:CIS Literature PD Workshop
DTSTART;VALUE=DATE-TIME:20260501T140000Z
DTEND;VALUE=DATE-TIME:20260501T180000Z
UID:279794056906
DESCRIPTION:CIS Literature PD Workshop
LOCATION:[Room 412] Pillsbury Hall\, 310 Pillsbury Dr SE Rm 120\, Minneapo
 lis\, MN 55455\, USA
END:VEVENT
BEGIN:VEVENT
SUMMARY:CIS Animal Science Student Field Day
DTSTART;VALUE=DATE:20260505
DTEND;VALUE=DATE:20260506
UID:315371085030
DESCRIPTION:Time\, Location TBD
LOCATION:
END:VEVENT
BEGIN:VEVENT
SUMMARY:CIS Hmong Student Field Day
DTSTART;VALUE=DATE-TIME:20260508T130000Z
DTEND;VALUE=DATE-TIME:20260508T180000Z
UID:331890006380
DESCRIPTION:T
LOCATION:
END:VEVENT
BEGIN:VEVENT
SUMMARY:CIS Composition Summer PD 
DTSTART;VALUE=DATE-TIME:20260513T140000Z
DTEND;VALUE=DATE-TIME:20260513T200000Z
UID:771369065380
DESCRIPTION:Location TBD
LOCATION:
END:VEVENT
BEGIN:VEVENT
SUMMARY:CIS German PD [1004 only]
DTSTART;VALUE=DATE-TIME:20260514T140000Z
DTEND;VALUE=DATE-TIME:20260514T180000Z
UID:114063343797
DESCRIPTION:CIS German PD [1004 only]
LOCATION:
END:VEVENT
BEGIN:VEVENT
SUMMARY:CIS Applied Economics Summer PD 
DTSTART;VALUE=DATE:20260515
DTEND;VALUE=DATE:20260516
UID:294397777856
DESCRIPTION:Tentative. Rooms & Times TBD.
LOCATION:
END:VEVENT
BEGIN:VEVENT
SUMMARY:CIS Psychology PD Workshop
DTSTART;VALUE=DATE-TIME:20260518T140000Z
DTEND;VALUE=DATE-TIME:20260518T180000Z
UID:743302436854
DESCRIPTION:CIS Psychology PD Workshop
LOCATION:
END:VEVENT
BEGIN:VEVENT
SUMMARY:CIS Spanish LPE Writing Grading
DTSTART;VALUE=DATE:20260518
DTEND;VALUE=DATE:20260519
UID:110393302885
DESCRIPTION:CIS Spanish LPE Writing Grading
LOCATION:
END:VEVENT
BEGIN:VEVENT
SUMMARY:CIS History Spring FD 
DTSTART;VALUE=DATE-TIME:20260520T130000Z
DTEND;VALUE=DATE-TIME:20260520T200000Z
UID:271662050556
DESCRIPTION:CIS History Spring FD 
LOCATION:(Room 125/175) Willey Hall\, 225 S 19th Ave\, Minneapolis\, MN 55
 455\, USA
END:VEVENT
BEGIN:VEVENT
SUMMARY:CIS History Spring FD 
DTSTART;VALUE=DATE-TIME:20260521T130000Z
DTEND;VALUE=DATE-TIME:20260521T210000Z
UID:194467902088
DESCRIPTION:CIS History Spring FD 
LOCATION:(Room 125/175) Willey Hall\, 225 S 19th Ave\, Minneapolis\, MN 55
 455\, USA
END:VEVENT
END:VCALENDAR
