BEGIN:VCALENDAR
VERSION:2.0
PRODID:-//chikkutakku.com//RDFCal 1.0//EN
X-WR-CALDESC:GoogleカレンダーやiCalendar形式情報を共有シェ
 アしましょう。近所のイベントから全国のイベントま
 で今日のイベント検索やスケジュールを決めるならち
 っくたっく
X-WR-CALNAME:ちっくたっく
X-WR-TIMEZONE:UTC
BEGIN:VEVENT
SUMMARY:[Live stream with the CEx]: Planning for your professional future
DTSTART;VALUE=DATE-TIME:20260424T100000Z
DTEND;VALUE=DATE-TIME:20260424T110000Z
UID:104913165735
DESCRIPTION:The appraisal period is a great time to take stock of your car
 eer journey at the Council\, review past achievements and set objectives f
 or the year ahead. Join the Chief Executive with members of our senior le
 adership and HR&amp\;OD teams for an informative session that will share i
 nsights on the value of making personal development plans\, alongside how 
 to set clear appraisal objectives aligned with our Together with PRIDE Val
 ues.  \n\n观看 Google Meet 直播：https://stream.meet.google.com/stre
 am/3903e279-3ed3-4e73-85b9-67c862dc35ea\n\n如需详细了解 Google Meet
 ，请访问：https://support.google.com/a/users/answer/9282720
LOCATION:
END:VEVENT
BEGIN:VEVENT
SUMMARY:International Day Against Homophobia
DTSTART;VALUE=DATE-TIME:20260516T230000Z
DTEND;VALUE=DATE-TIME:20260517T230000Z
UID:289585791617
DESCRIPTION:International Day Against Homophobia was created in 2004 to dr
 aw the attention of policymakers\, opinion leaders\, social movements\, th
 e public and the media to the violence and discrimination experienced by L
 GBTI (Lesbian\, Gay\, Bisexual\, Transgender and Intersex) people internat
 ionally. It is held on May 17 every year.\n\nRead more at: http://dayagain
 sthomophobia.org/what-is-may-17th/
LOCATION:
END:VEVENT
BEGIN:VEVENT
SUMMARY:World Day for Cultural Diversity for Dialogue and Development
DTSTART;VALUE=DATE-TIME:20260520T230000Z
DTEND;VALUE=DATE-TIME:20260521T230000Z
UID:301447580845
DESCRIPTION:n 2001\, UNESCO adopted the Universal Declaration on Cultural 
 Diversity and in December 2002\, the UN General Assembly\, in its resoluti
 on 57/249\, declared May 21 to be the World Day for Cultural Diversity for
  Dialogue and Development.\n\nThe day provides us with an opportunity to d
 eepen our understanding of the values of cultural diversity and to learn t
 o live together better.\n\nRead more at: http://www.un.org/en/events/cultu
 raldiversityday/
LOCATION:
END:VEVENT
BEGIN:VEVENT
SUMMARY:International Day for Biological Diversity
DTSTART;VALUE=DATE-TIME:20260521T230000Z
DTEND;VALUE=DATE-TIME:20260522T230000Z
UID:596409272461
DESCRIPTION:The United Nations General Assembly\, by its resolution 55/201
  of 20 December 2000\, proclaimed 22 May as The International Day for Biol
 ogical Diversity\, to increase understanding and awareness of biodiversity
  issues. The date designated for the day was chosen to commemorate the ado
 ption of the text of the Convention on 22 May 1992 by the Nairobi Final Ac
 t of the Conference for the Adoption of the Agreed Text of the Convention 
 on Biological Diversity.\n\nRead more at: http://www.un.org/en/events/biod
 iversityday/
LOCATION:
END:VEVENT
END:VCALENDAR
