BEGIN:VCALENDAR
VERSION:2.0
PRODID:-//chikkutakku.com//RDFCal 1.0//EN
X-WR-CALDESC:GoogleカレンダーやiCalendar形式情報を共有シェ
 アしましょう。近所のイベントから全国のイベントま
 で今日のイベント検索やスケジュールを決めるならち
 っくたっく
X-WR-CALNAME:ちっくたっく
X-WR-TIMEZONE:UTC
BEGIN:VEVENT
SUMMARY:Ithaca NY LP Vinyl Records & CDs Fair - Free Admission
DTSTART;VALUE=DATE-TIME:20260425T140000Z
DTEND;VALUE=DATE-TIME:20260425T200000Z
UID:221394394462
DESCRIPTION:What: Ithaca NY – NY LP Vinyl Record and CD FairWhen: Saturd
 ay April 25th 2026Where: Ithaca Downtown Conference Center\, 116 E Green S
 t\, Ithaca\, NY 14850\, USAHours: 10am to 4pmAdmission: Free Admission sta
 rts at 10am – Early Admission starting at 8am is $5Dealers from all over
  the Northeast will bring 100\,000+ vinyl LPs\, 45s\, 12″s\, CDs\, DVDs 
 and ephemera. Almost all genres of music from the 1920s to today. CASH is 
 king.  BUT many dealers accept credit cards\, PayPal and Venmo – Please 
 bring CASH if you can.This is an indoor event – Crate digging can get cr
 owded – Please consider wearing your face coveringFree parking on Saturd
 ay Details from Jack at +1 607 427-9698  
LOCATION:Ithaca Downtown Conference Center\, 116 E Green St\, Ithaca\, NY 
 14850\, USA
END:VEVENT
BEGIN:VEVENT
SUMMARY:Albany NY - Albany Record Riot
DTSTART;VALUE=DATE-TIME:20260426T140000Z
DTEND;VALUE=DATE-TIME:20260426T210000Z
UID:689666374962
DESCRIPTION:THE ALBANY RECORD RIOT!Sunday November 9thPolish Community Cen
 ter\, 225 Washington Avenue Ext\, Albany NY 1220510 AM-5 PM Regular admiss
 ion $5.00. Early admission $15 at 9 AM Super early admission $25 at 8 AMGr
 eat snack bar featuring perogies\, burgers and much more.Regular vendors: 
 Iris Records (CDs &amp\; new vinyl)\, Jim from Last Vestige\, Ed from Swee
 t Side Records\, Steve Palmietto\, John Slade\, Pup Daddy Productions\, Jo
 hn Bastone Ross Marvin\, Dave Marston (45s)\, John Bastone\, Patchouli Jul
 ie\, many more.60+ tables of LPs\, CDs &amp\; 45s (number of tables varies
  based on number of sellers).Dealer info: 8 foot tables $100\, spacious ro
 om\, easy load-in. For more info\, contact recordriots@gmail.com or text o
 r call Stephen at 609-468-0885. Rent collected around 2 PM on the day of t
 he show.The Albany Record Riot takes place three times a year. Don’t mis
 s the big vinyl dig!(2026 dates: Sundays January 25th\, April 26th\, Nove
 mber 11th)
LOCATION:Polonaise Ballroom at PCC\, 225 Washington Ave Ext\, Albany\, NY 
 12205\, USA
END:VEVENT
BEGIN:VEVENT
SUMMARY:Brooklyn\, NY/United States - Brooklyn Flea Record Fair
DTSTART;VALUE=DATE-TIME:20260426T140000Z
DTEND;VALUE=DATE-TIME:20260426T210000Z
UID:198704198622
DESCRIPTION:Name of Show : Brooklyn\, NY/United States - Brooklyn Flea Rec
 ord FairFull Address: BQ Flea\, 222 Meeker Ave\, Brooklyn\, NY 11222GeoCod
 e: 40.71548593839289\, -73.95092670913098Date : 4/26/26Show Hours : 10am-5
 pmTime Zone : EDTAdmission : freeEarly Admission (if any) : -Promoter Name
  : AmandaPromoter Email : amanda@brooklynflea.comPromoter Phone Number : -
 Show website page : https://www.brooklynflearecordfair.com/Facebook Event 
 page: - Venue Name : BQ FleaVenue Telephone : -Approximate number of deale
 rs/tables : 40Miscellaneous Notes : includes record collectors\, stores an
 d labels
LOCATION:BQ Flea\, 222 Meeker Ave\, Brooklyn\, NY 11222
END:VEVENT
BEGIN:VEVENT
SUMMARY:Danbury\, CT - Record & CD Expo!
DTSTART;VALUE=DATE-TIME:20260502T140000Z
DTEND;VALUE=DATE-TIME:20260502T200000Z
UID:268986723908
DESCRIPTION:Name of Show: Danbury\, CT - Record &amp\; CD Expo!Full Addres
 s: VFW Hall 149\, 5 Byron St\, Danbury CT 06810Date: May 2\, 2026Show Hour
 s: 10-4Time Zone: ESTAdmission: $4Early Admission: $10 (8-10AM)Promoter Na
 me: Malcolm TentPromoter Email: malcolmtent98@gmail.comPromoter Phone Numb
 er: 203-942-7612Event site: https://www.facebook.com/CTRecordExpoFB Even: 
 https://www.facebook.com/events/1604333334270198Venue Name: VFW Hall 149Ap
 proximate number of dealers tables: 35
LOCATION:Veterans of Foreign Wars\, 5 Byron St\, Danbury\, CT 06810\, USA
END:VEVENT
BEGIN:VEVENT
SUMMARY:Utica NY - NY LP CD Fair
DTSTART;VALUE=DATE-TIME:20260503T140000Z
DTEND;VALUE=DATE-TIME:20260503T200000Z
UID:264762063340
DESCRIPTION:Sunday May 3rd 2026\nUtica – Deerfield Fire Hall\, 5476 Tren
 ton Rd. North Utica NY 13502 (Exit 31 NYS Thruway)\nTime 10AM – 4PM\nAdm
 ission: Free\nEarly Admission 8-10AM $5\nTens of thousands of cool LPs\, C
 Ds\, DVDs\, 45s\, 12″s\, ephemera\nAll genres of music – Punk\, Rock\,
  Jazz\, Dance\, Psych\, Country\, Ethnic\, Reggae\, World\, Classical\, et
 c.etc.etc.\nCASH IS KING\, but many dealers take credit/debit cards\, Venm
 o\, PayPal\nBuy\, Sell\, Trade – Vinyl LP records\, CDs\, DVDs\, Memorab
 ilia – Dealers from around the North East US.\n\nFor details\, call Jack
  at (607) 427-9698‬
LOCATION:Deerfield Fire Hall\, 5476 Trenton Rd. North Utica NY 13502
END:VEVENT
BEGIN:VEVENT
SUMMARY:Burlington\, VT / USA
DTSTART;VALUE=DATE-TIME:20260517T150000Z
DTEND;VALUE=DATE-TIME:20260517T200000Z
UID:135874699961
DESCRIPTION:Name of Show : Burlington\, VT/USA\nAddress: Contois Auditoriu
 m\, 149 Church Street Burlington\, VT 05401\nDate : 5/17/26\nShow Hours : 
 11 am - 4 pm\nTime Zone : -\nAdmission : Free after 12\nEarly Admission (i
 f any) : $5 (11 am - 12 pm)\nPromoter Name : Evan LeCompte\nPromoter Email
  : burlingtonrecordfair@gmail.com\nPromoter Phone Number : -\nShow website
  page : -\nFacebook Event page : -\nVenue Name : Contois Auditorium\nVenue
  Telephone :-\nApproximate number of dealers/tables : 25\nMiscellaneous No
 tes : -\nDoes your show happen w
LOCATION:Contois Auditorium\, 149 Church Street Burlington\, VT 05401
END:VEVENT
END:VCALENDAR
