BEGIN:VCALENDAR
VERSION:2.0
PRODID:-//chikkutakku.com//RDFCal 1.0//EN
X-WR-CALDESC:GoogleカレンダーやiCalendar形式情報を共有シェ
 アしましょう。近所のイベントから全国のイベントま
 で今日のイベント検索やスケジュールを決めるならち
 っくたっく
X-WR-CALNAME:ちっくたっく
X-WR-TIMEZONE:UTC
BEGIN:VEVENT
SUMMARY:Lama Mark: Amitabha Wongkur
DTSTART;VALUE=DATE-TIME:20260423T070000Z
DTEND;VALUE=DATE-TIME:20260423T090000Z
UID:291990397504
DESCRIPTION:Lama Mark: Amitabha Wongkur
LOCATION:
END:VEVENT
BEGIN:VEVENT
SUMMARY:Lama Mark: Powa transmission and teachings
DTSTART;VALUE=DATE-TIME:20260423T120000Z
DTEND;VALUE=DATE-TIME:20260425T120000Z
UID:136391321082
DESCRIPTION:Lama Mark: Powa transmission and teachings
LOCATION:
END:VEVENT
BEGIN:VEVENT
SUMMARY:Lama Mark: Vajrasattva Wongkur
DTSTART;VALUE=DATE-TIME:20260429T070000Z
DTEND;VALUE=DATE-TIME:20260429T090000Z
UID:327103522330
DESCRIPTION:Lama Mark: Vajrasattva Wongkur
LOCATION:
END:VEVENT
BEGIN:VEVENT
SUMMARY:Lama Mark: Vajrasattva teachings
DTSTART;VALUE=DATE-TIME:20260429T120000Z
DTEND;VALUE=DATE-TIME:20260430T120000Z
UID:152636175477
DESCRIPTION:Lama Mark: Vajrasattva teachings
LOCATION:https://zoom.us/j/92680290677?pwd=0Md8bgNKe17mJy5zQ6k78OaTjuDLWO.
 1
END:VEVENT
END:VCALENDAR
