BEGIN:VCALENDAR
VERSION:2.0
PRODID:-//chikkutakku.com//RDFCal 1.0//EN
X-WR-CALDESC:GoogleカレンダーやiCalendar形式情報を共有シェ
 アしましょう。近所のイベントから全国のイベントま
 で今日のイベント検索やスケジュールを決めるならち
 っくたっく
X-WR-CALNAME:ちっくたっく
X-WR-TIMEZONE:UTC
BEGIN:VEVENT
SUMMARY:全体練習　07:00~11:30　上市丸山球場
DTSTART;VALUE=DATE:20260421
DTEND;VALUE=DATE:20260422
UID:210044470768
DESCRIPTION:全体練習　07:00~11:30　上市丸山球場
LOCATION:丸山総合公園 野球場\, 日本、〒930-0453 富山県中
 新川郡上市町堤谷１１−５
END:VEVENT
BEGIN:VEVENT
SUMMARY:JABA長野大会　空き日　全体練習　8:00～10:00
DTSTART;VALUE=DATE:20260424
DTEND;VALUE=DATE:20260425
UID:119359566201
DESCRIPTION:JABA長野大会　空き日　全体練習　8:00～10:00
LOCATION:信越クラブグラウンド\, 日本、〒381-2206 長野県
 長野市青木島町綱島６９６−１１
END:VEVENT
BEGIN:VEVENT
SUMMARY:全体練習　13:00~17:30　上市丸山球場
DTSTART;VALUE=DATE:20260429
DTEND;VALUE=DATE:20260430
UID:164560975422
DESCRIPTION:全体練習　13:00~17:30　上市丸山球場
LOCATION:丸山総合公園 野球場\, 日本、〒930-0453 富山県中
 新川郡上市町堤谷１１−５
END:VEVENT
END:VCALENDAR
