BEGIN:VCALENDAR
VERSION:2.0
PRODID:-//chikkutakku.com//RDFCal 1.0//EN
X-WR-CALDESC:GoogleカレンダーやiCalendar形式情報を共有シェ
 アしましょう。近所のイベントから全国のイベントま
 で今日のイベント検索やスケジュールを決めるならち
 っくたっく
X-WR-CALNAME:ちっくたっく
X-WR-TIMEZONE:UTC
BEGIN:VEVENT
SUMMARY:Soyuz 2.1a • Progress MS-34 / ISS 95P
DTSTART;VALUE=DATE-TIME:20260425T222200Z
DTEND;VALUE=DATE-TIME:20260425T222200Z
UID:285270146859
DESCRIPTION:A Roscosmos Soyuz 2.1a rocket will launch the 95th Progress ca
 rgo delivery ship to the International Space Station. It will carry approx
 imately 7280kg of cargo at liftoff in the standard pressurized and propell
 ant configuration\, including 700kg fuel\, 483kg food\, 420kg water\, 333k
 g sanitary and hygienic products\, 311kg station maintenance equipment and
  supplies. Progress will also deliver an Orlan-MKS spacesuit.\n-\nDelayed 
 from Feb. 11 and Mar. 25.\n\nWebcast: https://www.youtube.com/live/7FJUz-5
 4AX0\nhttps://plus.nasa.gov/scheduled-video/progress-95-cargo-ship-launch/
 \nhttps://www.youtube.com/live/8TTwx8L_Rlo
LOCATION:Pad 31/6 - Baikonur Cosmodrome\, Kasachstan
END:VEVENT
BEGIN:VEVENT
SUMMARY:Falcon 9 B5 • Starlink
DTSTART;VALUE=DATE-TIME:20260426T140000Z
DTEND;VALUE=DATE-TIME:20260426T140000Z
UID:251408754467
DESCRIPTION:A SpaceX Falcon 9 Block 5 rocket will launch a batch of 25 Sta
 rlink v2 Mini Optimized satellites into low Earth orbit. This flight is in
 ternally known as Starlink Group 17-16 and the booster is designated as B
 1088.15 for this mission\, flying with a reused fairing.\n-\nStarlink v2 M
 ini Optimized satellites are built by SpaceX and have a reported launch ma
 ss of 575kg. The mass-produced spacecraft carry a communications payload u
 sing the Ku and Ka frequency bands\, plus E-band for backhaul\, which will
  allow Starlink to provide ~4x more capacity per satellite than earlier it
 erations. They also employ optical inter-satellite links\, phased array be
 am forming and digital processing technologies. On the v2 sats the Krypton
  thrusters are replaced with new and more powerful Argon Hall thrusters. T
 he Optimized chassis features upgrades\, such as a new backhaul antenna wi
 th a SpaceX-designed and built dual-band chip and improved avionics\, prop
 ulsion and power systems. Starlink sats are able to track on-orbit debris 
 and capable of autonomous collision avoidance. All satellites will be equi
 pped with anti-reflective coatings.\nThe updated Starlink network architec
 ture has 1584 satellites at 550km altitude and an inclination of 53 degree
 s\, 1584 satellites at 540km and an inclination of 53.2 degrees\, 720 sate
 llites at 570km and an inclination of 70 degrees\, and 520 satellites at 5
 60km and an inclination of 97.6 degrees. The initial FCC application cover
 ed 4408 Starlink satellites. Eventually SpaceX will launch and operate a f
 ollow-on network of 7518 additional Starlink satellites transmitting in V-
 band frequencies. In the final deployment stage an additional 30000 Starli
 nk satellites might get orbited.\n-\nDelayed from Apr. 25.\n\nWebcast: \n
 https://www.spacex.com/launches/sl-17-16\n\nhttps://spaceflightnow.com/
LOCATION:Vandenberg AFB Space Launch Complex 4\, Lompoc\, Kalifornien 9343
 6\, Vereinigte Staaten
END:VEVENT
BEGIN:VEVENT
SUMMARY:Falcon Heavy • ViaSat 3-F3
DTSTART;VALUE=DATE-TIME:20260427T142100Z
DTEND;VALUE=DATE-TIME:20260427T155100Z
UID:213834016602
DESCRIPTION:A SpaceX Falcon Heavy rocket will launch the ViaSat 3-F3 (VS-3
  F3\, formerly known as ViaSat 3 APAC) communications satellite into Geosy
 nchronous Transfer Orbit (GTO). ViaSat 3-F3 is the third of at least three
  new-generation Boeing-built geostationary satellites for Viasat. The miss
 ion was switched from Ariane to Falcon Heavy in 2023. This flight will fea
 ture side boosters B1072.2 and B1075.22 and center core B1098\, which will
  fly in expendable mode without recovery hardware.\n-\nThe 6.4 tonne Viasa
 t 3-F3 (VS-3 F3) satellite is as big as a school bus\, and its solar panel
 s will unfurl in orbit to generate more than 30 kilowatts of power in orbi
 t. The spacecraft has one of the largest antenna reflectors ever sent into
  space\, and will rely on all-electric propulsion for fine orbital maneuve
 rs and station-keeping.\nThe ViaSat 3 constellation of high capacity broad
 band satellites for ViaSat Inc consists of three satellites for global cov
 erage. Boeing was selected to provide the all-electric propulsion BSS-702M
 P+ (originally BSS-702HP were to be used) busses\, while the communication
 s payloads were built by ViaSat. Each ViaSat 3 class satellite is expected
  to offer over 1 Terabit per second (Tbps) of total network capacity to de
 liver a global broadband network with enough bandwidth to deliver affordab
 le\, high-speed\, high-quality internet and video streaming services.\n-\n
 Delayed from June 2021\, July\, late 2022\, May\, late 2023\, Q2 2024 and 
 Q2 2025.\n\nWebcast:\nhttps://www.arianespace.com/road-to-space/
LOCATION:SpaceX LC-39A\, Florida\, Vereinigte Staaten
END:VEVENT
BEGIN:VEVENT
SUMMARY:Atlas V 551 • Amazon Leo
DTSTART;VALUE=DATE-TIME:20260428T005200Z
DTEND;VALUE=DATE-TIME:20260428T012100Z
UID:169035333386
DESCRIPTION:A United Launch Alliance Atlas V rocket\, designated AV-?\, wi
 ll launch a batch of 29 operational satellites for the Amazon Leo constell
 ation. The mission is known as Leo 6 by ULA and LA-06 by Amazon. Total pay
 load mass will be ~16.7 tonnes. Atlas will deploy the satellites in an ini
 tial orbit of 450km altitude\, the satellites will then use their electric
  propulsion systems to settle into their assigned final orbits. The Amazon
  Leo constellation will enable Internet service for customers between 56 d
 egrees north and south latitude. Atlas will fly in the 551 vehicle configu
 ration with a five-meter medium length fairing\, five GEM-63 solid rocket 
 boosters and a single-engine Centaur upper stage.\n\nMission profile video
 : https://youtu.be/ZATwTLIbQu8\n-\nOperational satellites of the Amazon Le
 o constellation (formerly known as Project Kuiper) are a significant upgra
 de from the two prototype satellites of the Kuiper Protoflight mission. Th
 e ~572kg satellites are equipped with Hall-effect thruster technology for 
 propulsion. They feature improved systems and sub-systems on board\, inclu
 ding phased array antennas\, processors\, solar arrays\, propulsion system
 s\, and optical inter-satellite links. In addition\, the satellites are co
 ated in a dielectric mirror film unique to Amazon Leo that scatters reflec
 ted sunlight to help make them less visible to ground-based astronomers. A
 mazon Leo is planned to work in concert with Amazon's network of 12 satell
 ite ground station facilities. In addition to connecting to ground station
 s\, satellites will interconnect via optical infrared laser connections. A
 mazon refers to this technology as OISL (optical inter-satellite link).\nT
 he Amazon Leo constellation is planned to consist of 3236 satellites opera
 ting in 98 orbital planes in three orbital shells\, one each at 590km\,
  610km and 630km orbital altitude. Kuiper satellites will fly in mid-incli
 nation orbits\, enabling Internet service for customers between 56 degrees
  north and south latitude. Phase 1 of deployment will be 578 satellites at
  630km altitude and an orbital inclination of 51.9 degrees. A total of fiv
 e phases of constellation development are planned.\n-\nDelayed from Apr. 2
 4 and 27.\n\nWebcast: \nhttps://www.ulalaunch.com/missions/next-launch/at
 las-v-amazon-leo-6\n\nhttps://spaceflightnow.com
LOCATION:Cape Canaveral AFS Launch Complex 41\, Titan III Rd\, Titusville\
 , FL 32780\, USA
END:VEVENT
BEGIN:VEVENT
SUMMARY:Falcon 9 B5 • Starlink
DTSTART;VALUE=DATE-TIME:20260429T020000Z
DTEND;VALUE=DATE-TIME:20260429T020000Z
UID:249019356513
DESCRIPTION:A SpaceX Falcon 9 Block 5 rocket will launch a batch of 25 Sta
 rlink v2 Mini Optimized satellites into low Earth orbit. This flight is in
 ternally known as Starlink Group 17-36 and the booster is designated as B
 1071.33 for this mission\, flying with a reused fairing.\n-\nStarlink v2 M
 ini Optimized satellites are built by SpaceX and have a reported launch ma
 ss of 575kg. The mass-produced spacecraft carry a communications payload u
 sing the Ku and Ka frequency bands\, plus E-band for backhaul\, which will
  allow Starlink to provide ~4x more capacity per satellite than earlier it
 erations. They also employ optical inter-satellite links\, phased array be
 am forming and digital processing technologies. On the v2 sats the Krypton
  thrusters are replaced with new and more powerful Argon Hall thrusters. T
 he Optimized chassis features upgrades\, such as a new backhaul antenna wi
 th a SpaceX-designed and built dual-band chip and improved avionics\, prop
 ulsion and power systems. Starlink sats are able to track on-orbit debris 
 and capable of autonomous collision avoidance. All satellites will be equi
 pped with anti-reflective coatings.\nThe updated Starlink network architec
 ture has 1584 satellites at 550km altitude and an inclination of 53 degree
 s\, 1584 satellites at 540km and an inclination of 53.2 degrees\, 720 sate
 llites at 570km and an inclination of 70 degrees\, and 520 satellites at 5
 60km and an inclination of 97.6 degrees. The initial FCC application cover
 ed 4408 Starlink satellites. Eventually SpaceX will launch and operate a f
 ollow-on network of 7518 additional Starlink satellites transmitting in V-
 band frequencies. In the final deployment stage an additional 30000 Starli
 nk satellites might get orbited.\n\nWebcast: \nhttps://www.spacex.com/lau
 nches/sl-17-36\n\nhttps://spaceflightnow.com/
LOCATION:Vandenberg AFB Space Launch Complex 4\, Lompoc\, Kalifornien 9343
 6\, Vereinigte Staaten
END:VEVENT
BEGIN:VEVENT
SUMMARY:Ariane 64 • Amazon Leo
DTSTART;VALUE=DATE-TIME:20260430T080800Z
DTEND;VALUE=DATE-TIME:20260430T085700Z
UID:122408321272
DESCRIPTION:Arianespace will launch an Ariane 6 rocket\, on a flight desig
 nated VA268\, to put a batch of 32 operational satellites for Amazon's Kui
 per constellation. The mission is known as LE-02 by Amazon. The constellat
 ion will number 3236 satellites\, spread out in 98 orbital planes\, or pat
 hways\, crisscrossing the planet at an average altitude of about 610km. In
  its license application with the Federal Communications Commission\, Amaz
 on said the Kuiper satellites will fly in mid-inclination orbits\, enablin
 g Internet service for customers between 56 degrees north and south latitu
 de. Ariane 6 will fly in the Ariane 64 configuration\, using 4 solid rocke
 t boosters and a long fairing.\n-\nDelayed from late March and Apr. 28.\n\
 nWebcast:\nhttps://www.arianespace.com/road-to-space/
LOCATION:ELA4 (l'Ensemble de Lancement Ariane 6) - Centre Spatial Guyanais
 \, Französisch-Guyana
END:VEVENT
BEGIN:VEVENT
SUMMARY:(NET) Sunkar • Test Flight
DTSTART;VALUE=DATE-TIME:20260430T110000Z
DTEND;VALUE=DATE-TIME:20260430T130000Z
UID:150646555168
DESCRIPTION:A Roscosmos Sunkar (Soyuz 5) rocket will lift off from Baikonu
 r Cosmodrome on its first suborbital test flight. It will carry a mass-siz
 e evaluation model (GMM\, Gruzovo-Masovoy Maket\, Габаритно-ма
 ссовый макет) instead of a payload. The Sunkar or Soyuz 5 rocke
 t (Союз 5\, aka Irtysh\, formerly codenamed Fenix) is intended as a re
 placement for the Zenit 2 launcher and equipped with an RD-171MV engine on
  the first stage and two RD-0124MS engines on the second stage\, with bot
 h stages using keroLOX as propellant.\n-\nDelayed from 2024\, Dec. 24 and 
 Mar. 31. Moved forward from Apr. 12. Delayed from Mar. 27\, 29\, Apr. 2\, 
 3 and 4.
LOCATION:Pad 45/1 - Baikonur Cosmodrome\, Kasachstan
END:VEVENT
BEGIN:VEVENT
SUMMARY:(NET) Nebula 1A • Test Flight
DTSTART;VALUE=DATE:20260430
DTEND;VALUE=DATE:20260501
UID:257611652021
DESCRIPTION:A Deep Blue Aerospace Nebula 1A (Xingyun 1A) rocket will launc
 h on its maiden flight\, which will be suborbital. It will do a stage land
 ing test. The two-stage\, 3.35m diameter launcher will use nine variable t
 hrust\, 3D-printed Thunder-R1 (Leiting-R) keroLOX engines on its first sta
 ge\, and a single engine on the second.  The first stage will be a reusabl
 e booster equipped with grid-fins and landing legs.\n-\nDelayed from Q2\, 
 mid-2025\, January and March.
LOCATION:Lianli Island Pad - Haiyang Spaceport https://maps.app.goo.gl/juY
 Do6r2w18RNfL36
END:VEVENT
BEGIN:VEVENT
SUMMARY:(NET) Falcon 9 B5 • PWSA
DTSTART;VALUE=DATE:20260430
DTEND;VALUE=DATE:20260501
UID:249530697813
DESCRIPTION:A SpaceX Falcon 9 Block 5 rocket will launch 21 operational s
 atellites for the U.S. military’s Space Development Agency PWSA (Prolife
 rated Warfighter Space Architecture) constellation. The Tranche 1 satellit
 es (codenamed ?) on this flight are for the Transport Layer and were built
  by ?. The mission is designated as SDA-T1TL-A and the Falcon 9 booster is
  B10XX.X for this flight. The 2nd stage is equipped with a Mission Extensi
 on Kit. Comprising a gray band on the RP-1 tank\, extra helium bottles & b
 atteries\, this kit extends the life of the stage in-orbit\, allowing it t
 o deploy the payload directly into its operational orbit.\n-\nOnce fully o
 perational\, the SDA Transport Layer will consist of a proliferated hetero
 geneous constellation of data relay space vehicles (SVs) that provide pers
 istent global coverage through a mesh network comprised of communication s
 atellites that connect to one another and to other space vehicles and grou
 nd stations via optical intersatellite links (OISLs). By nature of the mes
 h network spanning the globe\, the Transport satellites will also be able 
 to transmit precise position\, navigation and timing (PNT) data to enhance
  GPS. A-class satellites have at least four optical cross-links\, that is 
 so they can talk to satellites that are in plane with one another as they'
 re traveling and they also can talk to satellites that are cross-plane or 
 in completely different orbits. So they can maintain those four lines of c
 ommunication simultaneously. The B-class satellites will connect directly 
 to the warfighters via the Link-16 military communications system. They ha
 ve two optical cross-links each\, so that allows them to maintain constant
  communication with the other transport satellites in plane. The two other
  nodes will be Link-16 transmitters. Link-16 is an existing tactical commu
 nication system used across the services primarily for air and ground syst
 ems to share low latency data.The first phase of SDA’s Proliferated Warf
 ighter Space Architecture consists of 28 satellites (Tranche 0 including 2
 0 communications payloads made by Lockheed Martin and York Space\, and eig
 ht missile-tracking infrared sensor satellites made by SpaceX and Leidos) 
 as a proof of concept for the missile tracking and data relay network\, fo
 llowed by more than 150 additional satellites to provide an initial operat
 ional capability. In total\, Tranche 1 will consist of 154 operational sat
 ellites: 126 in the transport layer developed by York\, Northrop Grumman\,
  and Lockheed Martin\, and 28 focused on missile warning and tracking deve
 loped by Northrop Grumman and L3Harris. Combining conventional tactical ra
 dio links\, laser inter-satellite communications\, and wide-view infrared 
 sensors\, hundreds more SDA spacecraft could launch later as the Pentagon 
 ramps up efforts and integrates new capabilities.\n-\nDelayed from Septemb
 er\, December 2024\, Q2\, October\, November\, December and Q1.\n\nWebcast
 :\nhttps://www.spacex.com/launches\nhttps://spaceflightnow.com
LOCATION:Vandenberg AFB Space Launch Complex 4\, Lompoc\, Kalifornien 9343
 6\, USA
END:VEVENT
BEGIN:VEVENT
SUMMARY:(NET) GYUB • TBD
DTSTART;VALUE=DATE-TIME:20260501T050000Z
DTEND;VALUE=DATE-TIME:20260501T090000Z
UID:309939908205
DESCRIPTION:An Korean Ministry of National Defense (ADD) rocket launched o
 n its second orbital flight. It will lift off from a sea platform in the S
 outh China Sea\, just 4km south of Jeju Island\, and will place a small sy
 nthetic aperture radar (SAR) prototype satellite for Hanwha into orbit. T
 he four stage launcher doesn't have a public name and is known as Solid Fu
 el Space Launcher (고체연료 우주발사체\, Goche Yeollyo Uju Balsac
 he\, GYUB). It uses solids for three stages and liquid propulsion on the f
 ourth stage.\n-\nDelayed from early 2026\, Apr. 22 and 25.\n\nWebcast: htt
 ps://www.youtube.com/live/jR2pzFAVe-U
LOCATION:Südchinesisches Meer
END:VEVENT
BEGIN:VEVENT
SUMMARY:Falcon 9 B5 • Starlink
DTSTART;VALUE=DATE-TIME:20260501T173300Z
DTEND;VALUE=DATE-TIME:20260501T173300Z
UID:332737158727
DESCRIPTION:A SpaceX Falcon 9 Block 5 rocket will launch a batch of 29 Sta
 rlink v2 Mini Optimized satellites into low Earth orbit. This flight is in
 ternally known as Starlink Group 10-38 and the booster is designated as B1
 069.31 for this mission\, flying with a reused fairing.\n-\nStarlink v2 Mi
 ni Optimized satellites are built by SpaceX and have a reported launch mas
 s of 575kg. The mass-produced spacecraft carry a communications payload us
 ing the Ku and Ka frequency bands\, plus E-band for backhaul\, which will 
 allow Starlink to provide ~4x more capacity per satellite than earlier ite
 rations. They also employ optical inter-satellite links\, phased array bea
 m forming and digital processing technologies. On the v2 sats the Krypton 
 thrusters are replaced with new and more powerful Argon Hall thrusters. Th
 e Optimized chassis features upgrades\, such as a new backhaul antenna wit
 h a SpaceX-designed and built dual-band chip and improved avionics\, propu
 lsion and power systems. Starlink sats are able to track on-orbit debris a
 nd capable of autonomous collision avoidance. All satellites will be equip
 ped with anti-reflective coatings.\nThe updated Starlink network architect
 ure has 1584 satellites at 550km altitude and an inclination of 53 degrees
 \, 1584 satellites at 540km and an inclination of 53.2 degrees\, 720 satel
 lites at 570km and an inclination of 70 degrees\, and 520 satellites at 56
 0km and an inclination of 97.6 degrees. The initial FCC application covere
 d 4408 Starlink satellites. Eventually SpaceX will launch and operate a fo
 llow-on network of 7518 additional Starlink satellites transmitting in V-b
 and frequencies. In the final deployment stage an additional 30000 Starlin
 k satellites might get orbited.\n\nWebcast: \nhttps://www.spacex.com/laun
 ches/sl-10-38
LOCATION:Space Launch Complex 40\, Cape Canaveral\, FL\, Vereinigte Staate
 n
END:VEVENT
BEGIN:VEVENT
SUMMARY:(NET) Electron • QPS-SAR 16
DTSTART;VALUE=DATE:20260501
DTEND;VALUE=DATE:20260502
UID:276091801825
DESCRIPTION:A Rocket Lab Electron rocket topped with a Curie upper stage w
 ill launch the QPS-SAR 16 satellite (named ?) for iQPS of Japan. Rocket L
 ab's mission will be named "The Grain Goddess Provides" and fly with an ex
 tended fairing.\n-\nQ-shu Pioneers of Space – Synthetic Aperture Radar (
 QPS-SAR) are operational satellites in a series of small high-resolution S
 AR (synthetic aperture radar) Earth observation sats by the QPS Institute 
 (iQPS). The 100kg satellites feature a 3.6m diameter antenna of only 10kg.
  It can distinguish objects 1 meter long and identify cars on the road. Co
 mpared to the prototypes (QPS-SAR 1\, 2)\, these satellites have increased
  power due to two deployable solar arrays and increased battery capacity. 
 They also feature thrusters for station keeping. The planned constellation
  will have 36 satellites.\n\nWebcast: \nhttps://rocketlabcorp.com/mission
 s/
LOCATION:Onenui Station\, Māhia 4198\, Neuseeland
END:VEVENT
BEGIN:VEVENT
SUMMARY:(NET) New Glenn 7×2 • NG-4
DTSTART;VALUE=DATE:20260501
DTEND;VALUE=DATE:20260502
UID:130425295525
DESCRIPTION:A Blue Origin New Glenn rocket will launch on its fourth? flig
 ht\, carrying Firefly's Elytra Dawn OTV to orbit\, which will deploy the f
 ollowing CubeSats for NASA's Educational Launch of Nanosatellites (ELaNa)
  program: AEPEX and CANVAS (ELaNa 55)\, R5-S3 and R5-S5. Further CubeSats
  manifested on New Glenn are Odyssey\, IGOR\, SM 2\, SeaLion and UtProSat 
 1. New Glenn version 7×2 is equipped with seven BE-4 LNG/LOX engines on t
 he reusable GS1 first stage and two BE-3U hydroLOX engines on the GS2 seco
 nd stage. The first stage booster is designated GS1-7E03 named "No\, It's 
 Necessary".\n-\nThe Elytra Dawn orbital tug is equipped with a FANTM-RiDE 
 payload dispenser\, to first deploy commercial rideshare payloads in Sun-S
 ynchronous Orbit\, and then perform an on-orbit maneuver and stand ready t
 o deploy undisclosed U.S. government payloads on-demand for the NRO.\n-\nD
 elayed from mid-October\, November 2024\, May\, August and late 2025.
LOCATION:Space Launch Complex 36\, air force station\, Cape Canaveral\, FL
  32920\, USA
END:VEVENT
BEGIN:VEVENT
SUMMARY:(NET) Electron • StriX 9
DTSTART;VALUE=DATE:20260501
DTEND;VALUE=DATE:20260502
UID:497373151988
DESCRIPTION:A Rocket Lab Electron rocket topped with a Curie kickstage wil
 l launch the newest StriX satellite for Synspective\, its ninth sat after 
 StriX α\, β\, 1\, 3\, 4\, 2\, 5 and 6. Rocket Lab's mission will be name
 d "?" and will use a customized fairing.\n-\nStriX are Japanese synthetic 
 aperture radar satellites built by Synspective for their planned 25 satell
 ite constellation. They feature an X-band synthetic aperture radar. The 10
 0kg StriX operational satellites are more light weight than the 150kg Stri
 X α and β prototypes. The satellites feature two deployable panes\, one 
 side carrying solar cells\, the other carrying the X-band radar antenna.\n
 Synspective is planning a constellation of 25 satellites that can target d
 ata with a ground resolution of 1-3m\, single polarized (VV)\, and a swath
  width of more than 10-30km. The StriX observation modes are Stripmap and 
 Sliding Spotlight mode and each satellite has an SAR antenna that is 5 met
 ers in length and stowed during launch. The simple design of the satellite
 s allows for affordable development of the constellation.\n\nWebcast: \nh
 ttps://rocketlabcorp.com/live-stream/
LOCATION:Onenui Station\, Māhia 4198\, Neuseeland
END:VEVENT
BEGIN:VEVENT
SUMMARY:(NET) Long March CZ-10B • Test Flight
DTSTART;VALUE=DATE:20260501
DTEND;VALUE=DATE:20260502
UID:150088184416
DESCRIPTION:A China Rocket (CALT) Long March (Chang Zheng) CZ-10B rocket 
 will launch on its first test flight. The first stage is powered by seven 
 YF-100N keroLOX engines\, the second stage is propelled by a YF-219 methaL
 OX engine. The first stage is reusable and will attempt a landing on the d
 rone ship Linghangzhe (领航者)\, via its tension wires recovery system 
 on its deck.\n-\nDelayed from Apr. 5\, 19 and late April.
LOCATION:Pad 2 - Hainan Commercial Launch Site https://maps.app.goo.gl/nGf
 kosKTdhF5khDg8
END:VEVENT
BEGIN:VEVENT
SUMMARY:(NET) Super Heavy B3 • IFT-12 Starship B3
DTSTART;VALUE=DATE:20260501
DTEND;VALUE=DATE:20260502
UID:420164546512
DESCRIPTION:A SpaceX Super Heavy rocket will launch a Starship prototype o
 n its eleventh test flight\, designated IFT-12 (Integrated Flight Test). S
 tarship will be a stretched version equipped with Raptor 3 engines and per
 form a payload deployment test with 8? Starlink v3 simulators and a religh
 t of a single Raptor engine while in space. Super Heavy will also use Rapt
 or 3 engines and perform a RTLS landing at the launch tower. It will have 
 have an integrated vented interstage/forward dome\, three grid fins instea
 d of the prior four\, as well as the use of the grid fins as catch points.
  The booster/ship combination is designated as B19/S39\, both of the Block
  3 variant.\n-\nDelayed from March and April.\n\nWebcast:\nhttps://www.spa
 cex.com/launches/starship-flight-12
LOCATION:Orbital Launch Pad 2\, 54018 TX-4\, Brownsville\, TX 78521\, Vere
 inigte Staaten
END:VEVENT
BEGIN:VEVENT
SUMMARY:Long March CZ-7 • Tianzhou 10
DTSTART;VALUE=DATE:20260510
DTEND;VALUE=DATE:20260511
UID:152231015805
DESCRIPTION:A China Academy of Launch Vehicle Technology (CALT) Long Marc
 h (Chang Zheng) CZ-7 rocket will launch the tenth Tianzhou (TZ-10) cargo c
 raft for docking with the China Space Station (CSS). The Tianzhou 10 (天
 舟 or "heavenly vessel") craft will operate for about 9 months in space.\
 n-\nDelayed from Jan. 31\, Feb. 15 and Apr. 14.
LOCATION:Pad 201 - Wenchang Satellite Launch Center https://goo.gl/maps/7v
 4maqUT9VigBvQr5
END:VEVENT
BEGIN:VEVENT
SUMMARY:(NET) Falcon 9 B5 • SpX-34 Dragon 2 CRS2
DTSTART;VALUE=DATE-TIME:20260512T230000Z
DTEND;VALUE=DATE-TIME:20260512T230000Z
UID:965684142795
DESCRIPTION:A SpaceX Falcon 9 Block 5 rocket will launch the latest Dragon
  2 spacecraft on an operational cargo delivery mission to the Internationa
 l Space Station. The flight is being conducted under the second phase of t
 he Commercial Resupply Services (CRS) contract with NASA. Total cargo mass
  is ?kg\, including ?. B10XX.X is the Falcon 9 booster flying this mission
  and Dragon is vehicle C20X.X on this flight. The first stage will perform
  a RTLS landing at LZ-2.\n-\nMoved forward from June 2026. Delayed from Q4
  and March.\n\nWebcast:\nhttps://www.spacex.com/launches/crs34\n\nhttps://
 spaceflightnow.com
LOCATION:SpaceX LC-39A\, Florida\, USA
END:VEVENT
BEGIN:VEVENT
SUMMARY:Vega C • SMILE
DTSTART;VALUE=DATE-TIME:20260519T035200Z
DTEND;VALUE=DATE-TIME:20260519T035200Z
UID:227318551276
DESCRIPTION:An Avio Vega C rocket\, designated VV29\, will launch ESA's & 
 CAS' SMILE mission into a highly elliptical orbit. The Solar wind Magnetos
 phere Ionosphere Link Explorer (SMILE) is a joint initiative between ESA a
 nd the Chinese Academy of Sciences. The 2.3 tonne spacecraft will study Ea
 rth’s magnetic environment on a global scale. The aim of the mission is 
 to build a more complete understanding of the Sun-Earth connection. ESA is
  providing the payload module\, launch vehicle\, and one of the scientific
  instruments for SMILE\, while CAS is responsible for three scientific ins
 truments and the mission and science operations. For a few weeks post-laun
 ch\, SMILE will gradually propel itself into its science-performing orbit 
 of 121000 x 5000km. This is the first mission handled by Avio as launch pr
 ovider.\n\nMission profile video: https://youtu.be/QmuxhO7o3kA\n-\nDelayed
  from April 2025\, September and Apr. 9.\n\nWebcast: https://www.youtube.c
 om/live/6q8aKbcKCOs\nwatch.esa.int
LOCATION:ELV\, 66PG+C22\, Carbet Toukan 97310\, Französisch-Guyana
END:VEVENT
END:VCALENDAR
