BEGIN:VCALENDAR
VERSION:2.0
PRODID:-//chikkutakku.com//RDFCal 1.0//EN
X-WR-CALDESC:GoogleカレンダーやiCalendar形式情報を共有シェ
 アしましょう。近所のイベントから全国のイベントま
 で今日のイベント検索やスケジュールを決めるならち
 っくたっく
X-WR-CALNAME:ちっくたっく
X-WR-TIMEZONE:UTC
BEGIN:VEVENT
SUMMARY:船頭安五郎（一巻）
DTSTART;VALUE=DATE:20260426
DTEND;VALUE=DATE:20260427
UID:709876487545
DESCRIPTION:2026-04-27船頭安五郎（一巻）黒田 硫黄リイド社
LOCATION:
END:VEVENT
BEGIN:VEVENT
SUMMARY:グローバリゼーション・パラドクス
DTSTART;VALUE=DATE:20260426
DTEND;VALUE=DATE:20260427
UID:148675506407
DESCRIPTION:2026-04-27グローバリゼーション・パラドクスダ
 ニ・ロドリック/柴山 桂太/大川 良文白水社
LOCATION:
END:VEVENT
BEGIN:VEVENT
SUMMARY:廊下に植えた林檎の木
DTSTART;VALUE=DATE:20260426
DTEND;VALUE=DATE:20260427
UID:188769214582
DESCRIPTION:2026-04-27廊下に植えた林檎の木残 雪/近藤 直子/
 鷲巣 益美白水社
LOCATION:
END:VEVENT
BEGIN:VEVENT
SUMMARY:食べる本
DTSTART;VALUE=DATE:20260427
DTEND;VALUE=DATE:20260428
UID:118620315117
DESCRIPTION:2026-04-28食べる本高橋 源一郎河出書房新社
LOCATION:
END:VEVENT
BEGIN:VEVENT
SUMMARY:装苑 2026年 6月号 [雑誌]
DTSTART;VALUE=DATE:20260427
DTEND;VALUE=DATE:20260428
UID:162563223550
DESCRIPTION:2026-04-28装苑 2026年 6月号 [雑誌]文化出版局
LOCATION:
END:VEVENT
BEGIN:VEVENT
SUMMARY:D2 Discovering and Designing VALUE価値の創造を（2024）
DTSTART;VALUE=DATE:20260429
DTEND;VALUE=DATE:20260430
UID:217956231214
DESCRIPTION:2026-04D2 Discovering and Designing VALUE価値の創造を（
 2024）神戸大学V．School神戸大学出版会
LOCATION:
END:VEVENT
BEGIN:VEVENT
SUMMARY:spoon.2Di vol.133
DTSTART;VALUE=DATE:20260429
DTEND;VALUE=DATE:20260430
UID:268839092340
DESCRIPTION:2026-04-30spoon.2Di vol.133プレビジョン
LOCATION:
END:VEVENT
BEGIN:VEVENT
SUMMARY:私たちがやったこと
DTSTART;VALUE=DATE:20260506
DTEND;VALUE=DATE:20260507
UID:178740733669
DESCRIPTION:2026-05-07私たちがやったことレベッカ・ブラウ
 ン/柴田元幸twililight
LOCATION:
END:VEVENT
BEGIN:VEVENT
SUMMARY:カリグラフィーの基礎 Foundations of Calligraphy
DTSTART;VALUE=DATE:20260510
DTEND;VALUE=DATE:20260511
UID:131204541888
DESCRIPTION:2026-05-11カリグラフィーの基礎 Foundations of Callig
 raphyシーラ・ウォーターズ/ジュリアン・ウォーターズ/
 瀧川貴子Book&Design
LOCATION:
END:VEVENT
BEGIN:VEVENT
SUMMARY:死ぬまでに読みたい1000冊 人生を豊かにする世界
 の名著
DTSTART;VALUE=DATE:20260519
DTEND;VALUE=DATE:20260520
UID:705454840608
DESCRIPTION:2026-05-20死ぬまでに読みたい1000冊 人生を豊か
 にする世界の名著JamesMustich/柴田元幸すばる舎
LOCATION:
END:VEVENT
BEGIN:VEVENT
SUMMARY:輝ける星の下に
DTSTART;VALUE=DATE:20260521
DTEND;VALUE=DATE:20260522
UID:201747258626
DESCRIPTION:2026-05-22輝ける星の下に橋本 治河出書房新社
LOCATION:
END:VEVENT
BEGIN:VEVENT
SUMMARY:フーコーの振り子（下）
DTSTART;VALUE=DATE:20260521
DTEND;VALUE=DATE:20260522
UID:125518551154
DESCRIPTION:2026-05-22フーコーの振り子（下）ウンベルト・
 エーコ/藤村昌昭中央公論新社
LOCATION:
END:VEVENT
BEGIN:VEVENT
SUMMARY:ブルックリン
DTSTART;VALUE=DATE:20260521
DTEND;VALUE=DATE:20260522
UID:212676615101
DESCRIPTION:2026-05-22ブルックリンコルム・トビーン/栩木 
 伸明白水社
LOCATION:
END:VEVENT
END:VCALENDAR
