BEGIN:VCALENDAR
VERSION:2.0
PRODID:-//chikkutakku.com//RDFCal 1.0//EN
X-WR-CALDESC:GoogleカレンダーやiCalendar形式情報を共有シェ
 アしましょう。近所のイベントから全国のイベントま
 で今日のイベント検索やスケジュールを決めるならち
 っくたっく
X-WR-CALNAME:ちっくたっく
X-WR-TIMEZONE:UTC
BEGIN:VEVENT
SUMMARY:Never Too Early for Hills
DTSTART;VALUE=DATE-TIME:20260426T170000Z
DTEND;VALUE=DATE-TIME:20260426T210000Z
UID:201146326311
DESCRIPTION:Meet at CFJ Park in Johnson City 1 PM start.We ride pass the A
 irport\, return through Castle Creek and Port Dickinsonhttps://ridewithgps
 .com/routes/45822399Jim C 759 3325
LOCATION:
END:VEVENT
BEGIN:VEVENT
SUMMARY:President’s Ride
DTSTART;VALUE=DATE-TIME:20260427T173000Z
DTEND;VALUE=DATE-TIME:20260427T193000Z
UID:210571883396
DESCRIPTION:President’s Ride
LOCATION:
END:VEVENT
BEGIN:VEVENT
SUMMARY:STBC Ride - Ann Fattarusso
DTSTART;VALUE=DATE-TIME:20260509T140000Z
DTEND;VALUE=DATE-TIME:20260509T190000Z
UID:254774192067
DESCRIPTION:Route: TBD
LOCATION:
END:VEVENT
BEGIN:VEVENT
SUMMARY:Greene to Oxford - 30 miles
DTSTART;VALUE=DATE-TIME:20260516T160000Z
DTEND;VALUE=DATE-TIME:20260516T190000Z
UID:204189964055
DESCRIPTION:Ride description\n\nA 30 mile ride between Greene and Oxford a
 long beautiful quiet farm road Rt 32 - an official NY cycling road\, with 
 a few miles on Rt 12 outta Oxford.\n\n\nRoute:\n\nhttps://ridewithgps.com/
 routes/39356798\n\nMeet at:\n\nTractor Supply Co\, Greene NY\n\nPark in th
 e lot area in front of the closed Great American store\n\nRide start:  12 
 noon\n\nRide leader:\n\nRegina Losinger 222-8235\n\n\nDistance: 30 miles\n
 \nPace: \n\n~13 mph pace is planned \n\nOther paces are welcome to come a
 nd ride with like minded cyclists\n\nTerrain: \n\nLotsa flat and gentle ro
 llers with a few short manageable climbs of 3-6%\n\nSnack stop: \n\nOxford
  town square \n\nOr stop by nearby restaurants\, and return with your lunc
 hmates
LOCATION:Tractor Supply Co.\, 154 S Chenango St\, Greene\, NY 13778\, USA
END:VEVENT
BEGIN:VEVENT
SUMMARY:Ride of Silence
DTSTART;VALUE=DATE-TIME:20260520T224500Z
DTEND;VALUE=DATE-TIME:20260521T004500Z
UID:536367234046
DESCRIPTION:Ride Leader:  Scott LaufferRide Start Time:  7 pmStarting Lo
 cation:  MacArthur ParkGoogle Map Link to the park:  https://maps.app.g
 oo.gl/QWam17LGHV81ajUx5Ride with GPS Link: Binghamton / McArthur Park - 2
 025 Ride of Silence · Ride with GPSJoin cyclists worldwide on May 20 who 
 will take to the roads in a silent procession to honor cyclists who were
  killed or injured while cycling on public roadways. The ride of silen
 ce will start at MacArthur Park in Binghamton (next to MacArthur School) 
 at the Two Rivers Greenway to Binghamton University and back\, total about
  8 miles. The pace will be about 12 mph.  Meet at the parking area by th
 e tennis courts\, note that there are one-way entrance and exit  to the p
 ark/school from Vestal Avenue. Enter at the western connector\, not the on
 e with the light. We will have a short ceremony promptly at 7:00 and star
 t riding right after that. Please be gathered with the group then. In t
 he event of rain\, the ride will be cancelled.  Hoping the weather turn
 s out ok. Cancellation will be posted by 5:00.
LOCATION:
END:VEVENT
END:VCALENDAR
