BEGIN:VCALENDAR
VERSION:2.0
PRODID:-//chikkutakku.com//RDFCal 1.0//EN
X-WR-CALDESC:GoogleカレンダーやiCalendar形式情報を共有シェ
 アしましょう。近所のイベントから全国のイベントま
 で今日のイベント検索やスケジュールを決めるならち
 っくたっく
X-WR-CALNAME:ちっくたっく
X-WR-TIMEZONE:UTC
BEGIN:VEVENT
SUMMARY:高嶺の華は乱れ咲き 14
DTSTART;VALUE=DATE:20260419
DTEND;VALUE=DATE:20260420
UID:284560370041
DESCRIPTION:2026-04-20高嶺の華は乱れ咲き 14いとうえい秋田
 書店
LOCATION:
END:VEVENT
BEGIN:VEVENT
SUMMARY:聖闘士星矢THE LOST CANVAS冥王神話 番外編 2
DTSTART;VALUE=DATE:20260419
DTEND;VALUE=DATE:20260420
UID:468199623747
DESCRIPTION:2026-04-20聖闘士星矢THE LOST CANVAS冥王神話 番外編
  2車田正美/手代木史織秋田書店
LOCATION:
END:VEVENT
BEGIN:VEVENT
SUMMARY:今日からCITY HUNTER（18）
DTSTART;VALUE=DATE:20260419
DTEND;VALUE=DATE:20260420
UID:890588447216
DESCRIPTION:2026-04-20今日からCITY HUNTER（18）錦ソクラ/北条
 司コアミックス
LOCATION:
END:VEVENT
BEGIN:VEVENT
SUMMARY:今日からCITY HUNTER（18）
DTSTART;VALUE=DATE:20260419
DTEND;VALUE=DATE:20260420
UID:273718106863
DESCRIPTION:2026-04-20今日からCITY HUNTER（18）錦ソクラ/北条
 司コアミックス
LOCATION:
END:VEVENT
BEGIN:VEVENT
SUMMARY:聖闘士星矢THE LOST CANVAS冥王神話 番外編 2
DTSTART;VALUE=DATE:20260419
DTEND;VALUE=DATE:20260420
UID:427106406442
DESCRIPTION:2026-04-20聖闘士星矢THE LOST CANVAS冥王神話 番外編
  2車田正美/手代木史織秋田書店
LOCATION:
END:VEVENT
BEGIN:VEVENT
SUMMARY:高嶺の華は乱れ咲き 14
DTSTART;VALUE=DATE:20260419
DTEND;VALUE=DATE:20260420
UID:108644160607
DESCRIPTION:2026-04-20高嶺の華は乱れ咲き 14いとうえい秋田
 書店
LOCATION:
END:VEVENT
BEGIN:VEVENT
SUMMARY:聖闘士星矢 THE LOST CANVAS 冥王神話 番外編　2
DTSTART;VALUE=DATE:20260419
DTEND;VALUE=DATE:20260420
UID:158783870126
DESCRIPTION:2026-04-20聖闘士星矢 THE LOST CANVAS 冥王神話 番外
 編　2手代木史織/車田正美秋田書店
LOCATION:
END:VEVENT
BEGIN:VEVENT
SUMMARY:高嶺の華は乱れ咲き　14
DTSTART;VALUE=DATE:20260419
DTEND;VALUE=DATE:20260420
UID:129084738342
DESCRIPTION:2026-04-20高嶺の華は乱れ咲き　14いとうえい秋
 田書店
LOCATION:
END:VEVENT
BEGIN:VEVENT
SUMMARY:今日からCITY HUNTER 18巻【特典イラスト付き】
DTSTART;VALUE=DATE:20260419
DTEND;VALUE=DATE:20260420
UID:532032419945
DESCRIPTION:2026-04-20今日からCITY HUNTER 18巻【特典イラスト
 付き】錦ソクラ/「ＣＩＴＹＨＵＮＴＥＲ」北条司コア
 ミックス
LOCATION:
END:VEVENT
BEGIN:VEVENT
SUMMARY:辺境の老騎士 バルド・ローエン（13）
DTSTART;VALUE=DATE:20260419
DTEND;VALUE=DATE:20260420
UID:148110078603
DESCRIPTION:2026-04-20辺境の老騎士 バルド・ローエン（13）
 菊石 森生/支援BIS講談社
LOCATION:
END:VEVENT
BEGIN:VEVENT
SUMMARY:辺境の老騎士　バルド・ローエン（１３）
DTSTART;VALUE=DATE:20260419
DTEND;VALUE=DATE:20260420
UID:591090391900
DESCRIPTION:2026-04-20辺境の老騎士　バルド・ローエン（１
 ３）菊石森生/支援ＢＩＳ講談社
LOCATION:
END:VEVENT
BEGIN:VEVENT
SUMMARY:ONE PIECE CHOPPER’s 1
DTSTART;VALUE=DATE:20260422
DTEND;VALUE=DATE:20260423
UID:123138976839
DESCRIPTION:2026-04-23ONE PIECE CHOPPER’s 1「ONE PIECE」(原作:尾田
 栄一郎)より集英社
LOCATION:
END:VEVENT
BEGIN:VEVENT
SUMMARY:チャンバラ
DTSTART;VALUE=DATE:20260422
DTEND;VALUE=DATE:20260423
UID:223060210345
DESCRIPTION:2026-04-23チャンバラ佐藤賢一中央公論新社
LOCATION:
END:VEVENT
BEGIN:VEVENT
SUMMARY:新装版 もやしもん（13）
DTSTART;VALUE=DATE:20260422
DTEND;VALUE=DATE:20260423
UID:241137157297
DESCRIPTION:2026-04-23新装版 もやしもん（13）石川 雅之講談
 社
LOCATION:
END:VEVENT
BEGIN:VEVENT
SUMMARY:天狗の台所（7）
DTSTART;VALUE=DATE:20260422
DTEND;VALUE=DATE:20260423
UID:299334148943
DESCRIPTION:2026-04-23天狗の台所（7）田中 相講談社
LOCATION:
END:VEVENT
BEGIN:VEVENT
SUMMARY:コンプエース 2026年 6月号 [雑誌]
DTSTART;VALUE=DATE:20260423
DTEND;VALUE=DATE:20260424
UID:210469211631
DESCRIPTION:2026-04-24コンプエース 2026年 6月号 [雑誌]KADOKAWA
LOCATION:
END:VEVENT
BEGIN:VEVENT
SUMMARY:百姓貴族（9）アニメ3rd Season DVD付き 特装版
DTSTART;VALUE=DATE:20260423
DTEND;VALUE=DATE:20260424
UID:292230267206
DESCRIPTION:2026-04-24百姓貴族（9）アニメ3rd Season DVD付き 特
 装版荒川 弘新書館
LOCATION:
END:VEVENT
BEGIN:VEVENT
SUMMARY:百姓貴族（9）
DTSTART;VALUE=DATE:20260423
DTEND;VALUE=DATE:20260424
UID:271747407993
DESCRIPTION:2026-04-24百姓貴族（9）荒川 弘新書館
LOCATION:
END:VEVENT
BEGIN:VEVENT
SUMMARY:デッドマウント・デスプレイ外伝 怪人ソリティ
 アの神仙偽術（5）(完)
DTSTART;VALUE=DATE:20260423
DTEND;VALUE=DATE:20260424
UID:298130849741
DESCRIPTION:2026-04-24デッドマウント・デスプレイ外伝 怪人
 ソリティアの神仙偽術（5）(完)成田良悟/藤本新太/栖上
 ヤタ/まつたけうめスクウェア・エニックス
LOCATION:
END:VEVENT
BEGIN:VEVENT
SUMMARY:デッドマウント・デスプレイ外伝　怪人ソリティ
 アの神仙偽術 5巻
DTSTART;VALUE=DATE:20260423
DTEND;VALUE=DATE:20260424
UID:120500694198
DESCRIPTION:2026-04-24デッドマウント・デスプレイ外伝　怪
 人ソリティアの神仙偽術 5巻成田良悟/藤本新太/栖上ヤ
 タ/まつたけうめスクウェア・エニックス
LOCATION:
END:VEVENT
BEGIN:VEVENT
SUMMARY:ツィンツェンドルフの神学
DTSTART;VALUE=DATE:20260423
DTEND;VALUE=DATE:20260424
UID:225465632834
DESCRIPTION:2026-04-24ツィンツェンドルフの神学エーリヒ・
 バイロイター/うめだ・よしお新教出版社
LOCATION:
END:VEVENT
BEGIN:VEVENT
SUMMARY:完全解呪のプリースト（1）
DTSTART;VALUE=DATE:20260423
DTEND;VALUE=DATE:20260424
UID:302350188134
DESCRIPTION:2026-04-24完全解呪のプリースト（1）藤白ぺるか
 /Hisasi一二三書房
LOCATION:
END:VEVENT
BEGIN:VEVENT
SUMMARY:ラブライブ！虹ヶ咲学園スクールアイドル同好会
 Official Visual Collection III
DTSTART;VALUE=DATE:20260427
DTEND;VALUE=DATE:20260428
UID:270887311306
DESCRIPTION:2026-04-28ラブライブ！虹ヶ咲学園スクールアイ
 ドル同好会Official Visual Collection IIILoveLive!Days編集部KADOKAW
 A
LOCATION:
END:VEVENT
BEGIN:VEVENT
SUMMARY:【楽天ブックス限定デジタル特典】魔法少女リリ
 カルなのはMOVIE1st THE COMICS 2 新装版(オリジナルデジタル
 壁紙 DL)
DTSTART;VALUE=DATE:20260427
DTEND;VALUE=DATE:20260428
UID:328243166719
DESCRIPTION:2026-04-28【楽天ブックス限定デジタル特典】魔
 法少女リリカルなのはMOVIE1st THE COMICS 2 新装版(オリジナ
 ルデジタル壁紙 DL)都築真紀/長谷川光司Gakken
LOCATION:
END:VEVENT
BEGIN:VEVENT
SUMMARY:【楽天ブックス限定デジタル特典】魔法少女リリ
 カルなのはMOVIE1st THE COMICS 1 新装版(オリジナルデジタル
 壁紙 DL)
DTSTART;VALUE=DATE:20260427
DTEND;VALUE=DATE:20260428
UID:881493502764
DESCRIPTION:2026-04-28【楽天ブックス限定デジタル特典】魔
 法少女リリカルなのはMOVIE1st THE COMICS 1 新装版(オリジナ
 ルデジタル壁紙 DL)都築真紀/長谷川光司Gakken
LOCATION:
END:VEVENT
BEGIN:VEVENT
SUMMARY:倫敦スコーンの謎
DTSTART;VALUE=DATE:20260429
DTEND;VALUE=DATE:20260430
UID:317003688602
DESCRIPTION:2026-04-30倫敦スコーンの謎米澤穂信東京創元社
LOCATION:
END:VEVENT
BEGIN:VEVENT
SUMMARY:MUJIN -無尽ー 14
DTSTART;VALUE=DATE:20260429
DTEND;VALUE=DATE:20260430
UID:131431435912
DESCRIPTION:2026-04-30MUJIN -無尽ー 14崗田屋 愉一少年画報社
LOCATION:
END:VEVENT
BEGIN:VEVENT
SUMMARY:くーねるまるた ぬーぼ（19）
DTSTART;VALUE=DATE:20260429
DTEND;VALUE=DATE:20260430
UID:121843629657
DESCRIPTION:2026-04-30くーねるまるた ぬーぼ（19）高尾 じん
 ぐ小学館
LOCATION:
END:VEVENT
BEGIN:VEVENT
SUMMARY:魔力チートな魔女になりました 〜創造魔法で気
 ままな異世界生活〜 10
DTSTART;VALUE=DATE:20260429
DTEND;VALUE=DATE:20260430
UID:453474549171
DESCRIPTION:2026-04-30魔力チートな魔女になりました 〜創造
 魔法で気ままな異世界生活〜 10アロハ座長/てつぶたマ
 イクロマガジン社
LOCATION:
END:VEVENT
BEGIN:VEVENT
SUMMARY:君のクイズ 1
DTSTART;VALUE=DATE:20260430
DTEND;VALUE=DATE:20260501
UID:231301753001
DESCRIPTION:2026-05-01君のクイズ 1小川哲/野田彩子シューク
 リーム
LOCATION:
END:VEVENT
BEGIN:VEVENT
SUMMARY:家電批評 2026年 6月号 [雑誌]
DTSTART;VALUE=DATE:20260501
DTEND;VALUE=DATE:20260502
UID:172538613105
DESCRIPTION:2026-05-02家電批評 2026年 6月号 [雑誌]晋遊舎
LOCATION:
END:VEVENT
BEGIN:VEVENT
SUMMARY:クライマックスネクロマンス 4
DTSTART;VALUE=DATE:20260507
DTEND;VALUE=DATE:20260508
UID:150201045707
DESCRIPTION:2026-05-08クライマックスネクロマンス 4水上 悟
 志/瀬戸 一里少年画報社
LOCATION:
END:VEVENT
BEGIN:VEVENT
SUMMARY:はたらく細胞 猫（5）
DTSTART;VALUE=DATE:20260507
DTEND;VALUE=DATE:20260508
UID:229473333717
DESCRIPTION:2026-05-08はたらく細胞 猫（5）かいれ めく/蒼空
  チョコ/清水 茜講談社
LOCATION:
END:VEVENT
BEGIN:VEVENT
SUMMARY:家康と七人の忍び
DTSTART;VALUE=DATE:20260507
DTEND;VALUE=DATE:20260508
UID:221969635974
DESCRIPTION:2026-05-08家康と七人の忍び佐藤賢一中央公論新
 社
LOCATION:
END:VEVENT
BEGIN:VEVENT
SUMMARY:クライマックスネクロマンス 4
DTSTART;VALUE=DATE:20260507
DTEND;VALUE=DATE:20260508
UID:802018434511
DESCRIPTION:2026-05-08クライマックスネクロマンス 4水上 悟
 志/瀬戸 一里少年画報社
LOCATION:
END:VEVENT
BEGIN:VEVENT
SUMMARY:クライマックスネクロマンス 4
DTSTART;VALUE=DATE:20260507
DTEND;VALUE=DATE:20260508
UID:301349748318
DESCRIPTION:2026-05-08クライマックスネクロマンス 4水上 悟
 志/瀬戸 一里少年画報社
LOCATION:
END:VEVENT
BEGIN:VEVENT
SUMMARY:ソードアート・オンライン オルタナティブ ギャ
 ンブラーズ・オナー（1）
DTSTART;VALUE=DATE:20260508
DTEND;VALUE=DATE:20260509
UID:187637720184
DESCRIPTION:2026-05-09ソードアート・オンライン オルタナテ
 ィブ ギャンブラーズ・オナー（1）周藤 蓮/Enji/川原 礫K
 ADOKAWA
LOCATION:
END:VEVENT
BEGIN:VEVENT
SUMMARY:血契のアナスタシア 2
DTSTART;VALUE=DATE:20260513
DTEND;VALUE=DATE:20260514
UID:374732571592
DESCRIPTION:2026-05-14血契のアナスタシア 2冲方 丁/田中 ひ
 かるKADOKAWA
LOCATION:
END:VEVENT
BEGIN:VEVENT
SUMMARY:石神戦記（7）
DTSTART;VALUE=DATE:20260513
DTEND;VALUE=DATE:20260514
UID:274530159046
DESCRIPTION:2026-05-14石神戦記（7）古日向いろは双葉社
LOCATION:
END:VEVENT
BEGIN:VEVENT
SUMMARY:転生したらスライムだった件 囚われの暴風竜 15 
 （下）
DTSTART;VALUE=DATE:20260514
DTEND;VALUE=DATE:20260515
UID:145420665828
DESCRIPTION:2026-05-15転生したらスライムだった件 囚われの
 暴風竜 15 （下）伏瀬/もりょマイクロマガジン社
LOCATION:
END:VEVENT
BEGIN:VEVENT
SUMMARY:グッドナイト、アイラブユー 1
DTSTART;VALUE=DATE:20260514
DTEND;VALUE=DATE:20260515
UID:238839752911
DESCRIPTION:2026-05-15グッドナイト、アイラブユー 1たらち
 ねジョン秋田書店
LOCATION:
END:VEVENT
BEGIN:VEVENT
SUMMARY:司書正 巻四（4）
DTSTART;VALUE=DATE:20260514
DTEND;VALUE=DATE:20260515
UID:966710206610
DESCRIPTION:2026-05-15司書正 巻四（4）丸山 薫KADOKAWA
LOCATION:
END:VEVENT
BEGIN:VEVENT
SUMMARY:BLACK LAGOON 掃除屋ソーヤー 解体！ゴアゴア娘（11
 ）
DTSTART;VALUE=DATE:20260518
DTEND;VALUE=DATE:20260519
UID:324378423987
DESCRIPTION:2026-05-19BLACK LAGOON 掃除屋ソーヤー 解体！ゴア
 ゴア娘（11）イダ タツヒコ/広江 礼威小学館
LOCATION:
END:VEVENT
BEGIN:VEVENT
SUMMARY:BLACK LAGOON 掃除屋ソーヤー 解体！ゴアゴア娘（11
 ）
DTSTART;VALUE=DATE:20260518
DTEND;VALUE=DATE:20260519
UID:656222132709
DESCRIPTION:2026-05-19BLACK LAGOON 掃除屋ソーヤー 解体！ゴア
 ゴア娘（11）イダ タツヒコ/広江 礼威小学館
LOCATION:
END:VEVENT
END:VCALENDAR
