BEGIN:VCALENDAR
VERSION:2.0
PRODID:-//chikkutakku.com//RDFCal 1.0//EN
X-WR-CALDESC:GoogleカレンダーやiCalendar形式情報を共有シェ
 アしましょう。近所のイベントから全国のイベントま
 で今日のイベント検索やスケジュールを決めるならち
 っくたっく
X-WR-CALNAME:ちっくたっく
X-WR-TIMEZONE:UTC
BEGIN:VEVENT
SUMMARY:プロ野球 神試合図鑑
DTSTART;VALUE=DATE:20260420
DTEND;VALUE=DATE:20260421
UID:240586590587
DESCRIPTION:2026-04-21プロ野球 神試合図鑑長谷川晶一/鈴木
 ユキタカ（ヒゲ編）三才ブックス
LOCATION:
END:VEVENT
BEGIN:VEVENT
SUMMARY:週刊 ベースボール 2026年 5/4号 [雑誌]
DTSTART;VALUE=DATE:20260421
DTEND;VALUE=DATE:20260422
UID:155522826545
DESCRIPTION:2026-04-22週刊 ベースボール 2026年 5/4号 [雑誌]ベ
 ースボール・マガジン社
LOCATION:
END:VEVENT
BEGIN:VEVENT
SUMMARY:バトルスタディーズ（48）
DTSTART;VALUE=DATE:20260422
DTEND;VALUE=DATE:20260423
UID:313513131204
DESCRIPTION:2026-04-23バトルスタディーズ（48）なきぼくろ
 講談社
LOCATION:
END:VEVENT
BEGIN:VEVENT
SUMMARY:チャンバラ
DTSTART;VALUE=DATE:20260422
DTEND;VALUE=DATE:20260423
UID:290228506211
DESCRIPTION:2026-04-23チャンバラ佐藤賢一中央公論新社
LOCATION:
END:VEVENT
BEGIN:VEVENT
SUMMARY:バトルスタディーズ（４８）
DTSTART;VALUE=DATE:20260422
DTEND;VALUE=DATE:20260423
UID:236549897488
DESCRIPTION:2026-04-23バトルスタディーズ（４８）なきぼく
 ろ講談社
LOCATION:
END:VEVENT
BEGIN:VEVENT
SUMMARY:DVD 爽香 あなたに一直線
DTSTART;VALUE=DATE:20260423
DTEND;VALUE=DATE:20260424
UID:100686705705
DESCRIPTION:2026-04-24DVD 爽香 あなたに一直線竹書房
LOCATION:
END:VEVENT
BEGIN:VEVENT
SUMMARY:烏と孔雀
DTSTART;VALUE=DATE:20260423
DTEND;VALUE=DATE:20260424
UID:163024713479
DESCRIPTION:2026-04-24烏と孔雀津原 泰水河出書房新社
LOCATION:
END:VEVENT
BEGIN:VEVENT
SUMMARY:国木 下巻(完)
DTSTART;VALUE=DATE:20260423
DTEND;VALUE=DATE:20260424
UID:195698547711
DESCRIPTION:2026-04-24国木 下巻(完)栗井茶スクウェア・エニ
 ックス
LOCATION:
END:VEVENT
BEGIN:VEVENT
SUMMARY:国木 上巻
DTSTART;VALUE=DATE:20260423
DTEND;VALUE=DATE:20260424
UID:414858556727
DESCRIPTION:2026-04-24国木 上巻栗井茶スクウェア・エニック
 ス
LOCATION:
END:VEVENT
BEGIN:VEVENT
SUMMARY:国木 下巻
DTSTART;VALUE=DATE:20260423
DTEND;VALUE=DATE:20260424
UID:122542820692
DESCRIPTION:2026-04-24国木 下巻栗井茶スクウェア・エニック
 ス
LOCATION:
END:VEVENT
BEGIN:VEVENT
SUMMARY:須賀のスガスガしくない話
DTSTART;VALUE=DATE:20260423
DTEND;VALUE=DATE:20260424
UID:215964420150
DESCRIPTION:2026-04-24須賀のスガスガしくない話須賀 しのぶ
 集英社
LOCATION:
END:VEVENT
BEGIN:VEVENT
SUMMARY:麻雀に生きる
DTSTART;VALUE=DATE:20260423
DTEND;VALUE=DATE:20260424
UID:150980366146
DESCRIPTION:2026-04-24麻雀に生きる前原雄大/佐々木寿人ART NE
 XT
LOCATION:
END:VEVENT
BEGIN:VEVENT
SUMMARY:るるぶ メジャーリーグベースボール観戦ガイド
DTSTART;VALUE=DATE:20260426
DTEND;VALUE=DATE:20260427
UID:299236909102
DESCRIPTION:2026-04-27るるぶ メジャーリーグベースボール観
 戦ガイドJTBパブリッシング 旅行ガイドブック 編集部JTB
 パブリッシング
LOCATION:
END:VEVENT
BEGIN:VEVENT
SUMMARY:プロ野球ヒーロー大図鑑 vol.25
DTSTART;VALUE=DATE:20260426
DTEND;VALUE=DATE:20260427
UID:219956998390
DESCRIPTION:2026-04-27プロ野球ヒーロー大図鑑 vol.25ベースボ
 ール・マガジン社
LOCATION:
END:VEVENT
BEGIN:VEVENT
SUMMARY:ワン！（2）
DTSTART;VALUE=DATE:20260427
DTEND;VALUE=DATE:20260428
UID:495273832720
DESCRIPTION:2026-04-28ワン！（2）むぎわら しんたろう小学
 館
LOCATION:
END:VEVENT
BEGIN:VEVENT
SUMMARY:週刊 ベースボール 2026年 5/18号 [雑誌]
DTSTART;VALUE=DATE:20260427
DTEND;VALUE=DATE:20260428
UID:320929813321
DESCRIPTION:2026-04-28週刊 ベースボール 2026年 5/18号 [雑誌]
 ベースボール・マガジン社
LOCATION:
END:VEVENT
BEGIN:VEVENT
SUMMARY:BBM埼玉西武ライオンズベースボールカード（2026
 ）
DTSTART;VALUE=DATE:20260429
DTEND;VALUE=DATE:20260430
UID:249186560102
DESCRIPTION:2026-04BBM埼玉西武ライオンズベースボールカー
 ド（2026）ベースボール・マガジン社
LOCATION:
END:VEVENT
BEGIN:VEVENT
SUMMARY:野球・文明・エイリアン 4
DTSTART;VALUE=DATE:20260430
DTEND;VALUE=DATE:20260501
UID:187101746930
DESCRIPTION:2026-05-01野球・文明・エイリアン 4山岸 菜/へじ
 ていと集英社
LOCATION:
END:VEVENT
BEGIN:VEVENT
SUMMARY:韓国プロ野球観戦ガイド＆選手名鑑2026
DTSTART;VALUE=DATE:20260430
DTEND;VALUE=DATE:20260501
UID:642255244486
DESCRIPTION:2026-05-01韓国プロ野球観戦ガイド＆選手名鑑2026
 室井昌也論創社
LOCATION:
END:VEVENT
BEGIN:VEVENT
SUMMARY:歌舞伎町非武装寿司 ３巻
DTSTART;VALUE=DATE:20260430
DTEND;VALUE=DATE:20260501
UID:306523068679
DESCRIPTION:2026-05-01歌舞伎町非武装寿司 ３巻渡辺保裕大洋
 図書
LOCATION:
END:VEVENT
BEGIN:VEVENT
SUMMARY:ベースボールマガジン 2026年 6月号 [雑誌]
DTSTART;VALUE=DATE:20260501
DTEND;VALUE=DATE:20260502
UID:649794696546
DESCRIPTION:2026-05-02ベースボールマガジン 2026年 6月号 [雑
 誌]ベースボール・マガジン社
LOCATION:
END:VEVENT
BEGIN:VEVENT
SUMMARY:知れば知るほど泣けるジャンボ尾崎
DTSTART;VALUE=DATE:20260506
DTEND;VALUE=DATE:20260507
UID:522241956173
DESCRIPTION:2026-05-07知れば知るほど泣けるジャンボ尾崎別
 冊宝島編集部宝島社
LOCATION:
END:VEVENT
BEGIN:VEVENT
SUMMARY:ゆうれい屋敷（仮）
DTSTART;VALUE=DATE:20260506
DTEND;VALUE=DATE:20260507
UID:327695825487
DESCRIPTION:2026-05-07ゆうれい屋敷（仮）佐々木裕一朝日新
 聞出版
LOCATION:
END:VEVENT
BEGIN:VEVENT
SUMMARY:閻魔の教室 5
DTSTART;VALUE=DATE:20260507
DTEND;VALUE=DATE:20260508
UID:334879295211
DESCRIPTION:2026-05-08閻魔の教室 5田中優吏秋田書店
LOCATION:
END:VEVENT
BEGIN:VEVENT
SUMMARY:家康と七人の忍び
DTSTART;VALUE=DATE:20260507
DTEND;VALUE=DATE:20260508
UID:133703471867
DESCRIPTION:2026-05-08家康と七人の忍び佐藤賢一中央公論新
 社
LOCATION:
END:VEVENT
BEGIN:VEVENT
SUMMARY:アサギロ〜浅葱狼〜（33）
DTSTART;VALUE=DATE:20260511
DTEND;VALUE=DATE:20260512
UID:150955645311
DESCRIPTION:2026-05-12アサギロ〜浅葱狼〜（33）ヒラマツ・ 
 ミノル小学館
LOCATION:
END:VEVENT
BEGIN:VEVENT
SUMMARY:星の教室
DTSTART;VALUE=DATE:20260514
DTEND;VALUE=DATE:20260515
UID:499503165397
DESCRIPTION:2026-05-15星の教室高田 郁角川春樹事務所
LOCATION:
END:VEVENT
BEGIN:VEVENT
SUMMARY:イレギュラーズ（20）
DTSTART;VALUE=DATE:20260514
DTEND;VALUE=DATE:20260515
UID:128350129954
DESCRIPTION:2026-05-15イレギュラーズ（20）松本 直記講談社
LOCATION:
END:VEVENT
BEGIN:VEVENT
SUMMARY:鷹の惑い
DTSTART;VALUE=DATE:20260514
DTEND;VALUE=DATE:20260515
UID:327221700476
DESCRIPTION:2026-05-15鷹の惑い堂場 瞬一講談社
LOCATION:
END:VEVENT
BEGIN:VEVENT
SUMMARY:江夏の遺言
DTSTART;VALUE=DATE:20260514
DTEND;VALUE=DATE:20260515
UID:861279867354
DESCRIPTION:2026-05-15江夏の遺言江夏 豊/松永 多佳倫小学館
LOCATION:
END:VEVENT
BEGIN:VEVENT
SUMMARY:藤本冬香1st写真集 無防備な私
DTSTART;VALUE=DATE:20260517
DTEND;VALUE=DATE:20260518
UID:198575425876
DESCRIPTION:2026-05-18藤本冬香1st写真集 無防備な私藤本 冬
 香KADOKAWA
LOCATION:
END:VEVENT
BEGIN:VEVENT
SUMMARY:ベー革（9）
DTSTART;VALUE=DATE:20260518
DTEND;VALUE=DATE:20260519
UID:305504328924
DESCRIPTION:2026-05-19ベー革（9）クロマツ テツロウ小学館
LOCATION:
END:VEVENT
BEGIN:VEVENT
SUMMARY:生活の実践 「足るを知る」と世界が治る
DTSTART;VALUE=DATE:20260519
DTEND;VALUE=DATE:20260520
UID:109972241806
DESCRIPTION:2026-05-20生活の実践 「足るを知る」と世界が治
 る有太マンType Slowly
LOCATION:
END:VEVENT
END:VCALENDAR
