BEGIN:VCALENDAR
VERSION:2.0
PRODID:-//chikkutakku.com//RDFCal 1.0//EN
X-WR-CALDESC:GoogleカレンダーやiCalendar形式情報を共有シェ
 アしましょう。近所のイベントから全国のイベントま
 で今日のイベント検索やスケジュールを決めるならち
 っくたっく
X-WR-CALNAME:ちっくたっく
X-WR-TIMEZONE:UTC
BEGIN:VEVENT
SUMMARY:Earth Day
DTSTART;VALUE=DATE-TIME:20260422T040000Z
DTEND;VALUE=DATE-TIME:20260423T040000Z
UID:307785754277
DESCRIPTION:Earth Day
LOCATION:
END:VEVENT
BEGIN:VEVENT
SUMMARY:Arbor Day
DTSTART;VALUE=DATE-TIME:20260428T040000Z
DTEND;VALUE=DATE-TIME:20260429T040000Z
UID:848540764074
DESCRIPTION:Arbor Day
LOCATION:
END:VEVENT
BEGIN:VEVENT
SUMMARY:Mother's Day
DTSTART;VALUE=DATE-TIME:20260514T040000Z
DTEND;VALUE=DATE-TIME:20260515T040000Z
UID:414347678824
DESCRIPTION:Mother's Day
LOCATION:
END:VEVENT
BEGIN:VEVENT
SUMMARY:Armed Forces Day
DTSTART;VALUE=DATE-TIME:20260520T040000Z
DTEND;VALUE=DATE-TIME:20260521T040000Z
UID:304102054646
DESCRIPTION:Armed Forces Day
LOCATION:
END:VEVENT
END:VCALENDAR
