BEGIN:VCALENDAR
VERSION:2.0
PRODID:-//chikkutakku.com//RDFCal 1.0//EN
X-WR-CALDESC:GoogleカレンダーやiCalendar形式情報を共有シェ
 アしましょう。近所のイベントから全国のイベントま
 で今日のイベント検索やスケジュールを決めるならち
 っくたっく
X-WR-CALNAME:ちっくたっく
X-WR-TIMEZONE:UTC
BEGIN:VEVENT
SUMMARY:Challenge Running
DTSTART;VALUE=DATE-TIME:20260423T180000Z
DTEND;VALUE=DATE-TIME:20260424T140000Z
UID:242668291934
DESCRIPTION:Challenge Running
LOCATION:
END:VEVENT
BEGIN:VEVENT
SUMMARY:Private Party ( Friends of Bliss)
DTSTART;VALUE=DATE-TIME:20260424T174500Z
DTEND;VALUE=DATE-TIME:20260424T220000Z
UID:168505096567
DESCRIPTION:Private Party ( Friends of Bliss)
LOCATION:
END:VEVENT
BEGIN:VEVENT
SUMMARY:Private Party
DTSTART;VALUE=DATE-TIME:20260425T120000Z
DTEND;VALUE=DATE-TIME:20260425T160000Z
UID:405616615096
DESCRIPTION:Private Party
LOCATION:
END:VEVENT
BEGIN:VEVENT
SUMMARY:Village Hall Garage Sale
DTSTART;VALUE=DATE-TIME:20260426T090000Z
DTEND;VALUE=DATE-TIME:20260426T130000Z
UID:196155017714
DESCRIPTION:Village Hall Garage Sale
LOCATION:
END:VEVENT
BEGIN:VEVENT
SUMMARY:Village Hall AGM
DTSTART;VALUE=DATE-TIME:20260430T180000Z
DTEND;VALUE=DATE-TIME:20260430T200000Z
UID:195939247483
DESCRIPTION:Village Hall AGM
LOCATION:
END:VEVENT
BEGIN:VEVENT
SUMMARY:Heyford Choir
DTSTART;VALUE=DATE-TIME:20260501T181500Z
DTEND;VALUE=DATE-TIME:20260501T204500Z
UID:802533247338
DESCRIPTION:Heyford Choir
LOCATION:
END:VEVENT
BEGIN:VEVENT
SUMMARY:Private Party 
DTSTART;VALUE=DATE-TIME:20260502T090000Z
DTEND;VALUE=DATE-TIME:20260502T223000Z
UID:235416263747
DESCRIPTION:Private Party 
LOCATION:
END:VEVENT
BEGIN:VEVENT
SUMMARY:Heyford Choir
DTSTART;VALUE=DATE-TIME:20260511T181500Z
DTEND;VALUE=DATE-TIME:20260511T204500Z
UID:254152467582
DESCRIPTION:Heyford Choir
LOCATION:
END:VEVENT
BEGIN:VEVENT
SUMMARY:Heyford Choir
DTSTART;VALUE=DATE-TIME:20260515T170000Z
DTEND;VALUE=DATE-TIME:20260515T210000Z
UID:120680001807
DESCRIPTION:Heyford Choir
LOCATION:
END:VEVENT
BEGIN:VEVENT
SUMMARY:Private Party
DTSTART;VALUE=DATE-TIME:20260516T120000Z
DTEND;VALUE=DATE-TIME:20260516T160000Z
UID:243137949144
DESCRIPTION:Private Party
LOCATION:
END:VEVENT
BEGIN:VEVENT
SUMMARY:Heyford Choir
DTSTART;VALUE=DATE-TIME:20260516T170000Z
DTEND;VALUE=DATE-TIME:20260516T220000Z
UID:210008111135
DESCRIPTION:Heyford Choir
LOCATION:
END:VEVENT
END:VCALENDAR
