BEGIN:VCALENDAR
VERSION:2.0
PRODID:-//chikkutakku.com//RDFCal 1.0//EN
X-WR-CALDESC:GoogleカレンダーやiCalendar形式情報を共有シェ
 アしましょう。近所のイベントから全国のイベントま
 で今日のイベント検索やスケジュールを決めるならち
 っくたっく
X-WR-CALNAME:ちっくたっく
X-WR-TIMEZONE:UTC
BEGIN:VEVENT
SUMMARY:3コマでわかる 商品企画
DTSTART;VALUE=DATE:20260420
DTEND;VALUE=DATE:20260421
UID:295595088867
DESCRIPTION:2026-04-213コマでわかる 商品企画末吉 孝生翔泳
 社
LOCATION:
END:VEVENT
BEGIN:VEVENT
SUMMARY:Premiere逆引き大事典 いますぐ使える動画編集と演
 出のアイデア
DTSTART;VALUE=DATE:20260420
DTEND;VALUE=DATE:20260421
UID:147811331675
DESCRIPTION:2026-04-21Premiere逆引き大事典 いますぐ使える動
 画編集と演出のアイデア千崎 達也翔泳社
LOCATION:
END:VEVENT
BEGIN:VEVENT
SUMMARY:ホームページ辞典 第7版 HTML・CSS・JavaScript
DTSTART;VALUE=DATE:20260420
DTEND;VALUE=DATE:20260421
UID:176192230043
DESCRIPTION:2026-04-21ホームページ辞典 第7版 HTML・CSS・JavaSc
 ript株式会社アンク翔泳社
LOCATION:
END:VEVENT
BEGIN:VEVENT
SUMMARY:ズーミング！昆虫園
DTSTART;VALUE=DATE:20260421
DTEND;VALUE=DATE:20260422
UID:313411220403
DESCRIPTION:2026-04-22ズーミング！昆虫園小宮 輝之/多摩動
 物公園秀和システム新社
LOCATION:
END:VEVENT
BEGIN:VEVENT
SUMMARY:今すぐ使えるかんたん AutoCAD入門 ［改訂第3版］
DTSTART;VALUE=DATE:20260421
DTEND;VALUE=DATE:20260422
UID:276893004661
DESCRIPTION:2026-04-22今すぐ使えるかんたん AutoCAD入門 ［改
 訂第3版］アヴニールCADシステムズ 代表 日野 眞澄技術
 評論社
LOCATION:
END:VEVENT
BEGIN:VEVENT
SUMMARY:福祉教科書 介護福祉士 完全合格テキスト 2027年
 版
DTSTART;VALUE=DATE:20260421
DTEND;VALUE=DATE:20260422
UID:966665999835
DESCRIPTION:2026-04-22福祉教科書 介護福祉士 完全合格テキ
 スト 2027年版国際医療福祉大学 医療福祉学部 医療福祉
 ・マネジメント学科/介護福祉士試験対策研究会翔泳社
LOCATION:
END:VEVENT
BEGIN:VEVENT
SUMMARY:福祉教科書 介護福祉士 完全合格過去＆模擬問題
 集 2027年版
DTSTART;VALUE=DATE:20260421
DTEND;VALUE=DATE:20260422
UID:799827442272
DESCRIPTION:2026-04-22福祉教科書 介護福祉士 完全合格過去
 ＆模擬問題集 2027年版国際医療福祉大学 医療福祉学部 
 医療福祉・マネジメント学科翔泳社
LOCATION:
END:VEVENT
BEGIN:VEVENT
SUMMARY:観光・旅行教科書 旅行業務取扱管理者【総合・
 国内】テキスト＆問題集 第6版
DTSTART;VALUE=DATE:20260421
DTEND;VALUE=DATE:20260422
UID:301172998943
DESCRIPTION:2026-04-22観光・旅行教科書 旅行業務取扱管理者
 【総合・国内】テキスト＆問題集 第6版学校法人 国際
 文化アカデミー JTBツーリズムビジネスカレッジ翔泳社
LOCATION:
END:VEVENT
BEGIN:VEVENT
SUMMARY:ゼロからはじめる Instagram インスタグラム 基本＆
 便利技［改訂第3版］
DTSTART;VALUE=DATE:20260421
DTEND;VALUE=DATE:20260422
UID:172842027066
DESCRIPTION:2026-04-22ゼロからはじめる Instagram インスタグ
 ラム 基本＆便利技［改訂第3版］リンクアップ/LIDDELL 株
 式会社技術評論社
LOCATION:
END:VEVENT
BEGIN:VEVENT
SUMMARY:ナース3年目までに知っておきたい！図解でわか
 るICU看護
DTSTART;VALUE=DATE:20260421
DTEND;VALUE=DATE:20260422
UID:136132094307
DESCRIPTION:2026-04-22ナース3年目までに知っておきたい！図
 解でわかるICU看護松石 雄二朗/星野 晴彦/しゅーぞー/YAM
 A/スマナス/QQナーシング翔泳社
LOCATION:
END:VEVENT
BEGIN:VEVENT
SUMMARY:公務員のExcel
DTSTART;VALUE=DATE:20260421
DTEND;VALUE=DATE:20260422
UID:102462240014
DESCRIPTION:2026-04-22公務員のExcel小川 晶太郎技術評論社
LOCATION:
END:VEVENT
BEGIN:VEVENT
SUMMARY:公務員のWord
DTSTART;VALUE=DATE:20260421
DTEND;VALUE=DATE:20260422
UID:215904811553
DESCRIPTION:2026-04-22公務員のWord小川 晶太郎技術評論社
LOCATION:
END:VEVENT
BEGIN:VEVENT
SUMMARY:デザインの学校 これからはじめるPhotoshopの本 2026
 年対応 ［改訂第10版］
DTSTART;VALUE=DATE:20260422
DTEND;VALUE=DATE:20260423
UID:554553666459
DESCRIPTION:2026-04-23デザインの学校 これからはじめるPhotos
 hopの本 2026年対応 ［改訂第10版］I&D 宮川 千春/木俣 カ
 イ/ロクナナワークショップ技術評論社
LOCATION:
END:VEVENT
BEGIN:VEVENT
SUMMARY:今すぐ使えるかんたんmini RICOH GR IV 基本＆応用撮
 影ガイド
DTSTART;VALUE=DATE:20260422
DTEND;VALUE=DATE:20260423
UID:539898314771
DESCRIPTION:2026-04-23今すぐ使えるかんたんmini RICOH GR IV 基
 本＆応用撮影ガイド鹿野 貴司/Ryo Editor技術評論社
LOCATION:
END:VEVENT
BEGIN:VEVENT
SUMMARY:デザインの学校 これからはじめる Illustratorの本 2
 026年対応［改訂第10版］
DTSTART;VALUE=DATE:20260422
DTEND;VALUE=DATE:20260423
UID:115539257349
DESCRIPTION:2026-04-23デザインの学校 これからはじめる Illus
 tratorの本 2026年対応［改訂第10版］ロクナナワークショ
 ップ技術評論社
LOCATION:
END:VEVENT
BEGIN:VEVENT
SUMMARY:百姓貴族（9）アニメ3rd Season DVD付き 特装版
DTSTART;VALUE=DATE:20260423
DTEND;VALUE=DATE:20260424
UID:110618877565
DESCRIPTION:2026-04-24百姓貴族（9）アニメ3rd Season DVD付き 特
 装版荒川 弘新書館
LOCATION:
END:VEVENT
BEGIN:VEVENT
SUMMARY:百姓貴族（9）
DTSTART;VALUE=DATE:20260423
DTEND;VALUE=DATE:20260424
UID:598031379931
DESCRIPTION:2026-04-24百姓貴族（9）荒川 弘新書館
LOCATION:
END:VEVENT
BEGIN:VEVENT
SUMMARY:これからはじめるAIO AI最適化の教科書 AEO・GEO・LL
 MOがこれ1冊でわかる
DTSTART;VALUE=DATE:20260423
DTEND;VALUE=DATE:20260424
UID:196058370021
DESCRIPTION:2026-04-24これからはじめるAIO AI最適化の教科書 
 AEO・GEO・LLMOがこれ1冊でわかる瀧内 賢技術評論社
LOCATION:
END:VEVENT
BEGIN:VEVENT
SUMMARY:野はらのむし探検帳〜昆虫のくらしのひみつ！〜
DTSTART;VALUE=DATE:20260423
DTEND;VALUE=DATE:20260424
UID:299792745580
DESCRIPTION:2026-04-24野はらのむし探検帳〜昆虫のくらしの
 ひみつ！〜飯田 猛/森上 信夫技術評論社
LOCATION:
END:VEVENT
BEGIN:VEVENT
SUMMARY:了巷説百物語
DTSTART;VALUE=DATE:20260423
DTEND;VALUE=DATE:20260424
UID:318246699100
DESCRIPTION:2026-04-24了巷説百物語京極 夏彦KADOKAWA
LOCATION:
END:VEVENT
BEGIN:VEVENT
SUMMARY:絵本百物語
DTSTART;VALUE=DATE:20260423
DTEND;VALUE=DATE:20260424
UID:245135202887
DESCRIPTION:2026-04-24絵本百物語京極 夏彦/竹原 春泉/桃山人
 KADOKAWA
LOCATION:
END:VEVENT
BEGIN:VEVENT
SUMMARY:かやのき先生の基本情報技術者 科目B アルゴリズ
 ム教室
DTSTART;VALUE=DATE:20260423
DTEND;VALUE=DATE:20260424
UID:223564894733
DESCRIPTION:2026-04-24かやのき先生の基本情報技術者 科目B 
 アルゴリズム教室栢木 厚技術評論社
LOCATION:
END:VEVENT
BEGIN:VEVENT
SUMMARY:C# & Visual Studio2026パーフェクトマスター［.NET完全
 対応］
DTSTART;VALUE=DATE:20260426
DTEND;VALUE=DATE:20260427
UID:406161670969
DESCRIPTION:2026-04-27C# & Visual Studio2026パーフェクトマスター
 ［.NET完全対応］金城俊哉秀和システム新社
LOCATION:
END:VEVENT
BEGIN:VEVENT
SUMMARY:会計大百科事典 仕事で使う用語・ルール・公式11
 1
DTSTART;VALUE=DATE:20260426
DTEND;VALUE=DATE:20260427
UID:127025012589
DESCRIPTION:2026-04-27会計大百科事典 仕事で使う用語・ルー
 ル・公式111広川 敬祐/土江 智佳子/平田 昇太/松本 恵美
 琉翔泳社
LOCATION:
END:VEVENT
BEGIN:VEVENT
SUMMARY:技術記事を書く技術 ITエンジニアの価値を高める
 アウトプットのすべて
DTSTART;VALUE=DATE:20260426
DTEND;VALUE=DATE:20260427
UID:139481071138
DESCRIPTION:2026-04-27技術記事を書く技術 ITエンジニアの価
 値を高めるアウトプットのすべて伊藤 淳一翔泳社
LOCATION:
END:VEVENT
BEGIN:VEVENT
SUMMARY:図解即戦力 水処理のしくみとビジネスがこれ1冊
 でしっかりわかる教科書
DTSTART;VALUE=DATE:20260426
DTEND;VALUE=DATE:20260427
UID:175168549067
DESCRIPTION:2026-04-27図解即戦力 水処理のしくみとビジネス
 がこれ1冊でしっかりわかる教科書原田 篤史技術評論社
LOCATION:
END:VEVENT
BEGIN:VEVENT
SUMMARY:電気教科書 第一種電気工事士［学科試験］テキ
 スト＆問題集 第4版
DTSTART;VALUE=DATE:20260426
DTEND;VALUE=DATE:20260427
UID:207814091253
DESCRIPTION:2026-04-27電気教科書 第一種電気工事士［学科試
 験］テキスト＆問題集 第4版早川 義晴翔泳社
LOCATION:
END:VEVENT
BEGIN:VEVENT
SUMMARY:60分でわかる！ LLMO 超入門
DTSTART;VALUE=DATE:20260426
DTEND;VALUE=DATE:20260427
UID:188257128488
DESCRIPTION:2026-04-2760分でわかる！ LLMO 超入門株式会社PLAN-
 Bマーケティングパートナーズ 出田 晴之技術評論社
LOCATION:
END:VEVENT
BEGIN:VEVENT
SUMMARY:60分でわかる！ コンプライアンス 超入門
DTSTART;VALUE=DATE:20260426
DTEND;VALUE=DATE:20260427
UID:248268707437
DESCRIPTION:2026-04-2760分でわかる！ コンプライアンス 超入
 門福田 恵太/岩渕 恵理/田畑 瑠巳/神田 詠守/中島 永祥
 技術評論社
LOCATION:
END:VEVENT
BEGIN:VEVENT
SUMMARY:ゼロからはじめる Galaxy S26／S26+／S26 Ultra スマー
 トガイド ［ドコモ／au／ソフトバンク／楽天モバイル
 ／SIMフリー対応版］
DTSTART;VALUE=DATE:20260426
DTEND;VALUE=DATE:20260427
UID:295687416435
DESCRIPTION:2026-04-27ゼロからはじめる Galaxy S26／S26+／S26 Ult
 ra スマートガイド ［ドコモ／au／ソフトバンク／楽天
 モバイル／SIMフリー対応版］技術評論社編集部技術評
 論社
LOCATION:
END:VEVENT
BEGIN:VEVENT
SUMMARY:怪と幽 vol.022 2026年5月
DTSTART;VALUE=DATE:20260426
DTEND;VALUE=DATE:20260427
UID:283223651422
DESCRIPTION:2026-04-27怪と幽 vol.022 2026年5月京極 夏彦/綿矢 
 りさ/小川 洋子/澤村伊智/乙 一/山白 朝子KADOKAWA
LOCATION:
END:VEVENT
BEGIN:VEVENT
SUMMARY:イラスト図解 ファラデーの「錆びない鉄」
DTSTART;VALUE=DATE:20260427
DTEND;VALUE=DATE:20260428
UID:149972659700
DESCRIPTION:2026-04-28イラスト図解 ファラデーの「錆びない
 鉄」田中和明秀和システム新社
LOCATION:
END:VEVENT
BEGIN:VEVENT
SUMMARY:Difyではじめる業務効率化！ 生成AIアプリ開発入
 門
DTSTART;VALUE=DATE:20260427
DTEND;VALUE=DATE:20260428
UID:710642307770
DESCRIPTION:2026-04-28Difyではじめる業務効率化！ 生成AIアプ
 リ開発入門井上寛基秀和システム新社
LOCATION:
END:VEVENT
BEGIN:VEVENT
SUMMARY:Computer Useやアーティファクト自作からMCPサーバー
 構築まで Claude AIエージェント開発入門
DTSTART;VALUE=DATE:20260427
DTEND;VALUE=DATE:20260428
UID:139986465157
DESCRIPTION:2026-04-28Computer Useやアーティファクト自作からM
 CPサーバー構築まで Claude AIエージェント開発入門掌田
 津耶乃秀和システム新社
LOCATION:
END:VEVENT
BEGIN:VEVENT
SUMMARY:貸金業務取扱主任者 合格教本 改訂第10版
DTSTART;VALUE=DATE:20260427
DTEND;VALUE=DATE:20260428
UID:480322746901
DESCRIPTION:2026-04-28貸金業務取扱主任者 合格教本 改訂第10
 版田村 誠技術評論社
LOCATION:
END:VEVENT
BEGIN:VEVENT
SUMMARY:ゼロからはじめる iPhone 17e スマートガイド au／UQ 
 mobile完全対応版
DTSTART;VALUE=DATE:20260427
DTEND;VALUE=DATE:20260428
UID:203044671314
DESCRIPTION:2026-04-28ゼロからはじめる iPhone 17e スマートガ
 イド au／UQ mobile完全対応版リンクアップ技術評論社
LOCATION:
END:VEVENT
BEGIN:VEVENT
SUMMARY:ゼロからはじめる iPhone 17e スマートガイド ドコ
 モ完全対応版
DTSTART;VALUE=DATE:20260427
DTEND;VALUE=DATE:20260428
UID:339211496308
DESCRIPTION:2026-04-28ゼロからはじめる iPhone 17e スマートガ
 イド ドコモ完全対応版リンクアップ技術評論社
LOCATION:
END:VEVENT
BEGIN:VEVENT
SUMMARY:ゼロからはじめる iPhone 17e スマートガイド ソフ
 トバンク／ワイモバイル完全対応版
DTSTART;VALUE=DATE:20260427
DTEND;VALUE=DATE:20260428
UID:179898764166
DESCRIPTION:2026-04-28ゼロからはじめる iPhone 17e スマートガ
 イド ソフトバンク／ワイモバイル完全対応版リンクア
 ップ技術評論社
LOCATION:
END:VEVENT
BEGIN:VEVENT
SUMMARY:【改訂新版】フリーソフトjs-STARで かんたん統計
 データ分析
DTSTART;VALUE=DATE:20260429
DTEND;VALUE=DATE:20260430
UID:281304767849
DESCRIPTION:2026-04-30【改訂新版】フリーソフトjs-STARで か
 んたん統計データ分析中野 博幸/田中 敏技術評論社
LOCATION:
END:VEVENT
BEGIN:VEVENT
SUMMARY:身につく 電気数学
DTSTART;VALUE=DATE:20260429
DTEND;VALUE=DATE:20260430
UID:316054560395
DESCRIPTION:2026-04-30身につく 電気数学横川 淳技術評論社
LOCATION:
END:VEVENT
BEGIN:VEVENT
SUMMARY:EUV時代の半導体リソグラフィ技術
DTSTART;VALUE=DATE:20260429
DTEND;VALUE=DATE:20260430
UID:149883727935
DESCRIPTION:2026-04-30EUV時代の半導体リソグラフィ技術岡崎 
 信次/鈴木 章義/上野 巧技術評論社
LOCATION:
END:VEVENT
BEGIN:VEVENT
SUMMARY:不動産証券化ビジネスの教科書［クロージング実
 務入門］［第2版］
DTSTART;VALUE=DATE:20260429
DTEND;VALUE=DATE:20260430
UID:273309007016
DESCRIPTION:2026-04-30不動産証券化ビジネスの教科書［クロ
 ージング実務入門］［第2版］竹永良典/飛鳥リアルエス
 テートアドバイザリー株式会社秀和システム新社
LOCATION:
END:VEVENT
BEGIN:VEVENT
SUMMARY:新しいSlackの教科書 ［canvas・リスト・ワークフロ
 ー対応］
DTSTART;VALUE=DATE:20260429
DTEND;VALUE=DATE:20260430
UID:119742465334
DESCRIPTION:2026-04-30新しいSlackの教科書 ［canvas・リスト・
 ワークフロー対応］リンクアップ技術評論社
LOCATION:
END:VEVENT
BEGIN:VEVENT
SUMMARY:今すぐ使えるかんたん Windows 11 完全ガイドブック
  困った解決＆便利技 Copilot対応［改訂第5版］
DTSTART;VALUE=DATE:20260430
DTEND;VALUE=DATE:20260501
UID:143641196672
DESCRIPTION:2026-05-01今すぐ使えるかんたん Windows 11 完全ガ
 イドブック 困った解決＆便利技 Copilot対応［改訂第5版
 ］リブロワークス技術評論社
LOCATION:
END:VEVENT
BEGIN:VEVENT
SUMMARY:数からの挑戦状 〜遊んで、学んで、探求する 整
 数の不思議な世界〜
DTSTART;VALUE=DATE:20260430
DTEND;VALUE=DATE:20260501
UID:772108608320
DESCRIPTION:2026-05-01数からの挑戦状 〜遊んで、学んで、探
 求する 整数の不思議な世界〜井筒 智彦/谷口 隆技術評
 論社
LOCATION:
END:VEVENT
BEGIN:VEVENT
SUMMARY:生成AIアプリケーション評価入門
DTSTART;VALUE=DATE:20260430
DTEND;VALUE=DATE:20260501
UID:292553490097
DESCRIPTION:2026-05-01生成AIアプリケーション評価入門松木 
 晋祐技術評論社
LOCATION:
END:VEVENT
BEGIN:VEVENT
SUMMARY:作って学ぶExcel VBA入門 10のレッスンで身につける
 プログラミングの教本
DTSTART;VALUE=DATE:20260506
DTEND;VALUE=DATE:20260507
UID:125580774427
DESCRIPTION:2026-05-07作って学ぶExcel VBA入門 10のレッスンで
 身につけるプログラミングの教本リブロワークス技術
 評論社
LOCATION:
END:VEVENT
BEGIN:VEVENT
SUMMARY:今すぐ使えるかんたん ぜったいデキます！ ワー
 ド超入門［Office 2024／Microsoft 365 両対応］
DTSTART;VALUE=DATE:20260506
DTEND;VALUE=DATE:20260507
UID:294962237264
DESCRIPTION:2026-05-07今すぐ使えるかんたん ぜったいデキま
 す！ ワード超入門［Office 2024／Microsoft 365 両対応］門脇
  香奈子技術評論社
LOCATION:
END:VEVENT
BEGIN:VEVENT
SUMMARY:図解でわかるエネルギー安全保障 〜GX時代の経済
 安全保障エネルギーミックス実行戦略〜
DTSTART;VALUE=DATE:20260506
DTEND;VALUE=DATE:20260507
UID:394578142618
DESCRIPTION:2026-05-07図解でわかるエネルギー安全保障 〜GX
 時代の経済安全保障エネルギーミックス実行戦略〜岡
 部 寛史技術評論社
LOCATION:
END:VEVENT
BEGIN:VEVENT
SUMMARY:図解でわかる二酸化炭素地中貯留 〜ネットゼロ
 達成の切り札CCS〜
DTSTART;VALUE=DATE:20260506
DTEND;VALUE=DATE:20260507
UID:219784442312
DESCRIPTION:2026-05-07図解でわかる二酸化炭素地中貯留 〜ネ
 ットゼロ達成の切り札CCS〜難波 隆夫/株式会社INPEXソリ
 ューションズ技術評論社
LOCATION:
END:VEVENT
BEGIN:VEVENT
SUMMARY:フリーランス1年生ですが、AIで月収10万円アップ
 する方法を教えてください！
DTSTART;VALUE=DATE:20260507
DTEND;VALUE=DATE:20260508
UID:123836823687
DESCRIPTION:2026-05-08フリーランス1年生ですが、AIで月収10
 万円アップする方法を教えてください！冷え田やっこ/
 こんとも技術評論社
LOCATION:
END:VEVENT
BEGIN:VEVENT
SUMMARY:全単元解説動画付き！ 中学理科3年分が一冊でス
 ッキリ理解できる
DTSTART;VALUE=DATE:20260507
DTEND;VALUE=DATE:20260508
UID:753185246069
DESCRIPTION:2026-05-08全単元解説動画付き！ 中学理科3年分
 が一冊でスッキリ理解できるさわにい技術評論社
LOCATION:
END:VEVENT
BEGIN:VEVENT
SUMMARY:数理最適化がわかる --機械学習の連続最適化編
DTSTART;VALUE=DATE:20260510
DTEND;VALUE=DATE:20260511
UID:129844435554
DESCRIPTION:2026-05-11数理最適化がわかる --機械学習の連続
 最適化編飯塚 秀明技術評論社
LOCATION:
END:VEVENT
BEGIN:VEVENT
SUMMARY:ChatGPT & Copilot 入社1年目の教科書
DTSTART;VALUE=DATE:20260511
DTEND;VALUE=DATE:20260512
UID:320270553003
DESCRIPTION:2026-05-12ChatGPT & Copilot 入社1年目の教科書リブロ
 ワークス技術評論社
LOCATION:
END:VEVENT
BEGIN:VEVENT
SUMMARY:Gemini AI活用 最強の教科書
DTSTART;VALUE=DATE:20260511
DTEND;VALUE=DATE:20260512
UID:645645229290
DESCRIPTION:2026-05-12Gemini AI活用 最強の教科書桑名 由美技
 術評論社
LOCATION:
END:VEVENT
BEGIN:VEVENT
SUMMARY:図解入門業界研究 最新 総合商社の動向と仕組み
 がよ〜くわかる本
DTSTART;VALUE=DATE:20260512
DTEND;VALUE=DATE:20260513
UID:921656341072
DESCRIPTION:2026-05-13図解入門業界研究 最新 総合商社の動
 向と仕組みがよ〜くわかる本渡辺哲秀和システム新社
LOCATION:
END:VEVENT
BEGIN:VEVENT
SUMMARY:暗号資産年報データブック 2026-27年
DTSTART;VALUE=DATE:20260512
DTEND;VALUE=DATE:20260513
UID:363852086325
DESCRIPTION:2026-05-13暗号資産年報データブック 2026-27年バ
 ウンド技術評論社
LOCATION:
END:VEVENT
BEGIN:VEVENT
SUMMARY:図解入門ビジネス 最新 水素エネルギーの仕組み
 と動向がよ〜くわかる本［第2版］
DTSTART;VALUE=DATE:20260513
DTEND;VALUE=DATE:20260514
UID:575208266868
DESCRIPTION:2026-05-14図解入門ビジネス 最新 水素エネルギ
 ーの仕組みと動向がよ〜くわかる本［第2版］今村雅人
 秀和システム新社
LOCATION:
END:VEVENT
BEGIN:VEVENT
SUMMARY:ゼロから始めて社会を変えるソーシャル・イノベ
 ーション その「違和感」から始める、ひとりビジネス
 革命
DTSTART;VALUE=DATE:20260513
DTEND;VALUE=DATE:20260514
UID:196997714771
DESCRIPTION:2026-05-14ゼロから始めて社会を変えるソーシャ
 ル・イノベーション その「違和感」から始める、ひと
 りビジネス革命鈴木 寛/芝 哲也/須藤 淳彦/坪井 奈穂美/
 中川 元/戸高 祥円翔泳社
LOCATION:
END:VEVENT
BEGIN:VEVENT
SUMMARY:最新版 街でよく見かける雑草や野草がよーくわ
 かる本［第2版］
DTSTART;VALUE=DATE:20260514
DTEND;VALUE=DATE:20260515
UID:227284922578
DESCRIPTION:2026-05-15最新版 街でよく見かける雑草や野草が
 よーくわかる本［第2版］岩槻秀明秀和システム新社
LOCATION:
END:VEVENT
BEGIN:VEVENT
SUMMARY:図解入門よくわかる 最新 量子力学の基本と仕組
 み
DTSTART;VALUE=DATE:20260517
DTEND;VALUE=DATE:20260518
UID:594931943724
DESCRIPTION:2026-05-18図解入門よくわかる 最新 量子力学の
 基本と仕組み山崎耕造秀和システム新社
LOCATION:
END:VEVENT
BEGIN:VEVENT
SUMMARY:直結BP馬券術
DTSTART;VALUE=DATE:20260517
DTEND;VALUE=DATE:20260518
UID:282889554839
DESCRIPTION:2026-05-18直結BP馬券術秀和システム新社
LOCATION:
END:VEVENT
BEGIN:VEVENT
SUMMARY:スマートワークを実現する エンタープライズア
 ーキテクチャ 理論と実践
DTSTART;VALUE=DATE:20260517
DTEND;VALUE=DATE:20260518
UID:216939776182
DESCRIPTION:2026-05-18スマートワークを実現する エンタープ
 ライズアーキテクチャ 理論と実践中村 祥技術評論社
LOCATION:
END:VEVENT
BEGIN:VEVENT
SUMMARY:はじめてのExcel2024
DTSTART;VALUE=DATE:20260518
DTEND;VALUE=DATE:20260519
UID:297616628243
DESCRIPTION:2026-05-19はじめてのExcel2024石塚亜紀子秀和シス
 テム新社
LOCATION:
END:VEVENT
BEGIN:VEVENT
SUMMARY:韓国怪物大全
DTSTART;VALUE=DATE:20260518
DTEND;VALUE=DATE:20260519
UID:705985944691
DESCRIPTION:2026-05-19韓国怪物大全朴 美暻/高松 彩乃/クァク
 ・ジェシク翔泳社
LOCATION:
END:VEVENT
BEGIN:VEVENT
SUMMARY:アジャイル はじめの一歩 スッキリわかるアジャ
 イルの基本と役立て方
DTSTART;VALUE=DATE:20260518
DTEND;VALUE=DATE:20260519
UID:105307079068
DESCRIPTION:2026-05-19アジャイル はじめの一歩 スッキリわ
 かるアジャイルの基本と役立て方最上 千佳子翔泳社
LOCATION:
END:VEVENT
BEGIN:VEVENT
SUMMARY:AIで集客する仕組み 〜クリックされない時代に選
 ばれるAI検索のセオリー〜
DTSTART;VALUE=DATE:20260519
DTEND;VALUE=DATE:20260520
UID:331228506948
DESCRIPTION:2026-05-20AIで集客する仕組み 〜クリックされな
 い時代に選ばれるAI検索のセオリー〜住 太陽技術評論
 社
LOCATION:
END:VEVENT
BEGIN:VEVENT
SUMMARY:2026年版 電気通信工事施工管理技士 突破攻略 1級 
 1次検定
DTSTART;VALUE=DATE:20260519
DTEND;VALUE=DATE:20260520
UID:257430238686
DESCRIPTION:2026-05-202026年版 電気通信工事施工管理技士 突
 破攻略 1級 1次検定高橋 英樹技術評論社
LOCATION:
END:VEVENT
BEGIN:VEVENT
SUMMARY:クイズで学ぶUIデザイン ユーザビリティの基本が
 身につく50問
DTSTART;VALUE=DATE:20260519
DTEND;VALUE=DATE:20260520
UID:229301754227
DESCRIPTION:2026-05-20クイズで学ぶUIデザイン ユーザビリテ
 ィの基本が身につく50問安原 七重翔泳社
LOCATION:
END:VEVENT
BEGIN:VEVENT
SUMMARY:IT戦略の基本が全部わかる本 プロジェクト計画か
 ら投資対効果・人材採用・要件定義・マネジメント・
 事業成長まで
DTSTART;VALUE=DATE:20260519
DTEND;VALUE=DATE:20260520
UID:117833445993
DESCRIPTION:2026-05-20IT戦略の基本が全部わかる本 プロジェ
 クト計画から投資対効果・人材採用・要件定義・マネ
 ジメント・事業成長まで橋本 将功翔泳社
LOCATION:
END:VEVENT
BEGIN:VEVENT
SUMMARY:現場で使える 薬剤師・登録販売者のための漢方
 相談便利帖 症状・体質で選ぶ漢方薬183
DTSTART;VALUE=DATE:20260519
DTEND;VALUE=DATE:20260520
UID:324997072935
DESCRIPTION:2026-05-20現場で使える 薬剤師・登録販売者のた
 めの漢方相談便利帖 症状・体質で選ぶ漢方薬183杉山 卓
 也翔泳社
LOCATION:
END:VEVENT
END:VCALENDAR
