BEGIN:VCALENDAR
VERSION:2.0
PRODID:-//chikkutakku.com//RDFCal 1.0//EN
X-WR-CALDESC:GoogleカレンダーやiCalendar形式情報を共有シェ
 アしましょう。近所のイベントから全国のイベントま
 で今日のイベント検索やスケジュールを決めるならち
 っくたっく
X-WR-CALNAME:ちっくたっく
X-WR-TIMEZONE:UTC
BEGIN:VEVENT
SUMMARY:杉並 大宮八幡宮教室
DTSTART;VALUE=DATE-TIME:20260424T010000Z
DTEND;VALUE=DATE-TIME:20260424T070000Z
UID:242003547048
DESCRIPTION:杉並 大宮八幡宮教室
LOCATION:
END:VEVENT
BEGIN:VEVENT
SUMMARY:杉並 大宮八幡宮教室
DTSTART;VALUE=DATE-TIME:20260425T010000Z
DTEND;VALUE=DATE-TIME:20260425T070000Z
UID:323750308904
DESCRIPTION:杉並 大宮八幡宮教室
LOCATION:
END:VEVENT
BEGIN:VEVENT
SUMMARY:深川 富岡八幡宮教室
DTSTART;VALUE=DATE-TIME:20260426T020000Z
DTEND;VALUE=DATE-TIME:20260426T070000Z
UID:278335004256
DESCRIPTION:深川 富岡八幡宮教室
LOCATION:
END:VEVENT
BEGIN:VEVENT
SUMMARY:目黒 蟠龍寺教室
DTSTART;VALUE=DATE-TIME:20260428T040000Z
DTEND;VALUE=DATE-TIME:20260428T080000Z
UID:421836475032
DESCRIPTION:目黒 蟠龍寺教室
LOCATION:
END:VEVENT
BEGIN:VEVENT
SUMMARY:原宿 伴治郎教室
DTSTART;VALUE=DATE-TIME:20260429T020000Z
DTEND;VALUE=DATE-TIME:20260429T070000Z
UID:931409978210
DESCRIPTION:原宿 伴治郎教室
LOCATION:
END:VEVENT
BEGIN:VEVENT
SUMMARY:深川 富岡八幡宮教室
DTSTART;VALUE=DATE-TIME:20260430T080000Z
DTEND;VALUE=DATE-TIME:20260430T110000Z
UID:236671038816
DESCRIPTION:深川 富岡八幡宮教室
LOCATION:
END:VEVENT
BEGIN:VEVENT
SUMMARY:原宿 伴治郎教室
DTSTART;VALUE=DATE-TIME:20260501T020000Z
DTEND;VALUE=DATE-TIME:20260501T070000Z
UID:107094709891
DESCRIPTION:原宿 伴治郎教室
LOCATION:
END:VEVENT
BEGIN:VEVENT
SUMMARY:原宿 伴治郎教室
DTSTART;VALUE=DATE-TIME:20260502T020000Z
DTEND;VALUE=DATE-TIME:20260502T070000Z
UID:289468039655
DESCRIPTION:原宿 伴治郎教室
LOCATION:
END:VEVENT
BEGIN:VEVENT
SUMMARY:鎌倉 建長寺教室
DTSTART;VALUE=DATE-TIME:20260503T010000Z
DTEND;VALUE=DATE-TIME:20260503T060000Z
UID:418321312828
DESCRIPTION:鎌倉 建長寺教室
LOCATION:
END:VEVENT
BEGIN:VEVENT
SUMMARY:原宿 伴治郎教室
DTSTART;VALUE=DATE-TIME:20260504T020000Z
DTEND;VALUE=DATE-TIME:20260504T070000Z
UID:194964251969
DESCRIPTION:原宿 伴治郎教室
LOCATION:
END:VEVENT
BEGIN:VEVENT
SUMMARY:目黒 蟠龍寺教室
DTSTART;VALUE=DATE-TIME:20260511T040000Z
DTEND;VALUE=DATE-TIME:20260511T080000Z
UID:304655485519
DESCRIPTION:目黒 蟠龍寺教室
LOCATION:
END:VEVENT
BEGIN:VEVENT
SUMMARY:鎌倉 建長寺教室
DTSTART;VALUE=DATE-TIME:20260513T030000Z
DTEND;VALUE=DATE-TIME:20260513T060000Z
UID:326729432147
DESCRIPTION:鎌倉 建長寺教室
LOCATION:
END:VEVENT
BEGIN:VEVENT
SUMMARY:深川 富岡八幡宮教室
DTSTART;VALUE=DATE-TIME:20260514T080000Z
DTEND;VALUE=DATE-TIME:20260514T110000Z
UID:334170487713
DESCRIPTION:深川 富岡八幡宮教室
LOCATION:
END:VEVENT
BEGIN:VEVENT
SUMMARY:杉並 大宮八幡宮教室
DTSTART;VALUE=DATE-TIME:20260515T010000Z
DTEND;VALUE=DATE-TIME:20260515T070000Z
UID:362002816980
DESCRIPTION:杉並 大宮八幡宮教室
LOCATION:
END:VEVENT
BEGIN:VEVENT
SUMMARY:杉並 大宮八幡宮教室
DTSTART;VALUE=DATE-TIME:20260516T010000Z
DTEND;VALUE=DATE-TIME:20260516T070000Z
UID:991786577319
DESCRIPTION:杉並 大宮八幡宮教室
LOCATION:
END:VEVENT
BEGIN:VEVENT
SUMMARY:深川 富岡八幡宮教室
DTSTART;VALUE=DATE-TIME:20260517T020000Z
DTEND;VALUE=DATE-TIME:20260517T070000Z
UID:126591738979
DESCRIPTION:深川 富岡八幡宮教室
LOCATION:
END:VEVENT
BEGIN:VEVENT
SUMMARY:原宿 伴治郎教室
DTSTART;VALUE=DATE-TIME:20260519T030000Z
DTEND;VALUE=DATE-TIME:20260519T070000Z
UID:132259738550
DESCRIPTION:原宿 伴治郎教室
LOCATION:
END:VEVENT
BEGIN:VEVENT
SUMMARY:原宿 伴治郎教室
DTSTART;VALUE=DATE-TIME:20260520T030000Z
DTEND;VALUE=DATE-TIME:20260520T070000Z
UID:272470873235
DESCRIPTION:原宿 伴治郎教室
LOCATION:
END:VEVENT
BEGIN:VEVENT
SUMMARY:深川 富岡八幡宮教室
DTSTART;VALUE=DATE-TIME:20260521T080000Z
DTEND;VALUE=DATE-TIME:20260521T110000Z
UID:251503387513
DESCRIPTION:深川 富岡八幡宮教室
LOCATION:
END:VEVENT
END:VCALENDAR
