BEGIN:VCALENDAR
VERSION:2.0
PRODID:-//chikkutakku.com//RDFCal 1.0//EN
X-WR-CALDESC:GoogleカレンダーやiCalendar形式情報を共有シェ
 アしましょう。近所のイベントから全国のイベントま
 で今日のイベント検索やスケジュールを決めるならち
 っくたっく
X-WR-CALNAME:ちっくたっく
X-WR-TIMEZONE:UTC
BEGIN:VEVENT
SUMMARY:富士を背負う男 大江戸なりあがり伝（1）
DTSTART;VALUE=DATE:20260423
DTEND;VALUE=DATE:20260424
UID:153273874061
DESCRIPTION:2026-04-24富士を背負う男 大江戸なりあがり伝（
 1）鈴木 英治KADOKAWA
LOCATION:
END:VEVENT
BEGIN:VEVENT
SUMMARY:寿司銀捕物帖 銀シャリの涙（5）
DTSTART;VALUE=DATE:20260423
DTEND;VALUE=DATE:20260424
UID:557987979345
DESCRIPTION:2026-04-24寿司銀捕物帖 銀シャリの涙（5）風野 
 真知雄KADOKAWA
LOCATION:
END:VEVENT
BEGIN:VEVENT
SUMMARY:奄美の生物多様性と人々の暮らし
DTSTART;VALUE=DATE:20260429
DTEND;VALUE=DATE:20260430
UID:843477874006
DESCRIPTION:2026-04奄美の生物多様性と人々の暮らし鈴木英
 治南方新社
LOCATION:
END:VEVENT
BEGIN:VEVENT
SUMMARY:乱雲 傀儡剣合わせ鏡 密命（十二）決定版
DTSTART;VALUE=DATE:20260507
DTEND;VALUE=DATE:20260508
UID:331486555199
DESCRIPTION:2026-05-08乱雲 傀儡剣合わせ鏡 密命（十二）決
 定版佐伯 泰英文藝春秋
LOCATION:
END:VEVENT
BEGIN:VEVENT
SUMMARY:夢の女 取次屋栄三 ＜新装版＞
DTSTART;VALUE=DATE:20260508
DTEND;VALUE=DATE:20260509
UID:240794296710
DESCRIPTION:2026-05-09夢の女 取次屋栄三 ＜新装版＞岡本さ
 とる祥伝社
LOCATION:
END:VEVENT
BEGIN:VEVENT
SUMMARY:謁見 決定版
DTSTART;VALUE=DATE:20260511
DTEND;VALUE=DATE:20260512
UID:783313919937
DESCRIPTION:2026-05-12謁見 決定版佐伯泰英光文社
LOCATION:
END:VEVENT
BEGIN:VEVENT
SUMMARY:罪人の刃
DTSTART;VALUE=DATE:20260511
DTEND;VALUE=DATE:20260512
UID:277986519801
DESCRIPTION:2026-05-12罪人の刃鈴木英治光文社
LOCATION:
END:VEVENT
BEGIN:VEVENT
SUMMARY:陰陽石の謎
DTSTART;VALUE=DATE:20260511
DTEND;VALUE=DATE:20260512
UID:911754098246
DESCRIPTION:2026-05-12陰陽石の謎小杉健治光文社
LOCATION:
END:VEVENT
BEGIN:VEVENT
SUMMARY:お髷番承り候三 血族の澱 〈新装版〉
DTSTART;VALUE=DATE:20260511
DTEND;VALUE=DATE:20260512
UID:249891146068
DESCRIPTION:2026-05-12お髷番承り候三 血族の澱 〈新装版〉
 上田秀人徳間書店
LOCATION:
END:VEVENT
BEGIN:VEVENT
SUMMARY:お髷番承り候四 傾国の策 〈新装版〉
DTSTART;VALUE=DATE:20260511
DTEND;VALUE=DATE:20260512
UID:276501405677
DESCRIPTION:2026-05-12お髷番承り候四 傾国の策 〈新装版〉
 上田秀人徳間書店
LOCATION:
END:VEVENT
BEGIN:VEVENT
SUMMARY:下谷稲荷町自身番日月抄（四） ことば風
DTSTART;VALUE=DATE:20260512
DTEND;VALUE=DATE:20260513
UID:199786292106
DESCRIPTION:2026-05-13下谷稲荷町自身番日月抄（四） ことば
 風小杉健治双葉社
LOCATION:
END:VEVENT
BEGIN:VEVENT
SUMMARY:天下無双の四股 松山屋人情世直し帖
DTSTART;VALUE=DATE:20260514
DTEND;VALUE=DATE:20260515
UID:988206915008
DESCRIPTION:2026-05-15天下無双の四股 松山屋人情世直し帖小
 杉 健治角川春樹事務所
LOCATION:
END:VEVENT
END:VCALENDAR
