BEGIN:VCALENDAR
VERSION:2.0
PRODID:-//chikkutakku.com//RDFCal 1.0//EN
X-WR-CALDESC:GoogleカレンダーやiCalendar形式情報を共有シェ
 アしましょう。近所のイベントから全国のイベントま
 で今日のイベント検索やスケジュールを決めるならち
 っくたっく
X-WR-CALNAME:ちっくたっく
X-WR-TIMEZONE:UTC
BEGIN:VEVENT
SUMMARY:Year 7 Camp - Great Aussie Bushcamp Lake Macquarie
DTSTART;VALUE=DATE:20260420
DTEND;VALUE=DATE:20260422
UID:194483067808
DESCRIPTION:Year 7 Camp - Great Aussie Bushcamp Lake Macquarie
LOCATION:
END:VEVENT
BEGIN:VEVENT
SUMMARY:คุณอินทุอร ลาพักผ่อน
DTSTART;VALUE=DATE:20260419
DTEND;VALUE=DATE:20260422
UID:160341486679
DESCRIPTION:คุณอินทุอร ลาพักผ่อน
LOCATION:
END:VEVENT
BEGIN:VEVENT
SUMMARY:Adobe Summit
DTSTART;VALUE=DATE:20260419
DTEND;VALUE=DATE:20260422
UID:164067342768
DESCRIPTION:https://summit.adobe.com/na/
LOCATION:Las Vegas\, Nevada\, USA
END:VEVENT
BEGIN:VEVENT
SUMMARY:T01 - Toxicology - Vera Ribeiro Marques
DTSTART;VALUE=DATE-TIME:20260419T220000Z
DTEND;VALUE=DATE-TIME:20260422T220000Z
UID:218228298237
DESCRIPTION:T01 - Toxicology - Vera Ribeiro Marques
LOCATION:Aula 1I - Ue1 Campus Navile
END:VEVENT
BEGIN:VEVENT
SUMMARY:E06 - Environmental analysis and detection in the environment - La
 ura Tositti
DTSTART;VALUE=DATE-TIME:20260419T220000Z
DTEND;VALUE=DATE-TIME:20260422T220000Z
UID:130765355621
DESCRIPTION:E06 - Environmental analysis and detection in the environment 
 - Laura Tositti
LOCATION:Aula 1I - Ue1 Campus Navile
END:VEVENT
BEGIN:VEVENT
SUMMARY:初候 葭始生 (あしはじめてしょうず)
DTSTART;VALUE=DATE-TIME:20260419T150000Z
DTEND;VALUE=DATE-TIME:20260423T150000Z
UID:180454583478
DESCRIPTION:葦が芽を吹き始める頃
LOCATION:
END:VEVENT
BEGIN:VEVENT
SUMMARY:初候 葭始生 (あしはじめてしょうず)
DTSTART;VALUE=DATE-TIME:20260419T150000Z
DTEND;VALUE=DATE-TIME:20260423T150000Z
UID:247150885373
DESCRIPTION:葦が芽を吹き始める頃
LOCATION:
END:VEVENT
BEGIN:VEVENT
SUMMARY:（５短）
DTSTART;VALUE=DATE:20260419
DTEND;VALUE=DATE:20260423
UID:212451891537
DESCRIPTION:（５短）
LOCATION:
END:VEVENT
BEGIN:VEVENT
SUMMARY:โครงการจัดทำรายงานการป
 ระเมินตนเองตามเกณฑ์ EdPEx  กำห
 นดจัดระหว่างวันที่ 20 – 23 เมษ
 ายน 2569 ณ โรงแรมจัสมิน ซิตี้ 
 ซ.สุขุมวิท 23 กรุงเทพมหานคร 
 วิทยากร: อ.พนาสัณฑ์ (บรรยายว
 ันที่ 20 และ 23 เมษายน 2569)
DTSTART;VALUE=DATE:20260419
DTEND;VALUE=DATE:20260423
UID:234175188569
DESCRIPTION: โครงการจัดทำรายงานกา
 รประเมินตนเองตามเกณฑ์ EdPExก
 ำหนดจัดระหว่างวันที่ 20 – 23 เ
 มษายน 2569ณ โรงแรมจัสมิน ซิตี
 ้ ซ.สุขุมวิท 23 กรุงเทพมหานค
 รวิทยากร: อ.พนาสัณฑ์ (บรรยาย
 วันที่ 20 และ 23 เมษายน 2569)
LOCATION:ณ โรงแรมจัสมิน ซิตี้ ซ.ส
 ุขุมวิท 23 กรุงเทพมหานคร
END:VEVENT
BEGIN:VEVENT
SUMMARY:04/20 ~ 04/23 校園游泳比賽
DTSTART;VALUE=DATE:20260419
DTEND;VALUE=DATE:20260423
UID:106375387792
DESCRIPTION:04/20 ~ 04/23 校園游泳比賽
LOCATION:
END:VEVENT
BEGIN:VEVENT
SUMMARY:Leadership Auditions
DTSTART;VALUE=DATE:20260420
DTEND;VALUE=DATE:20260424
UID:150510463788
DESCRIPTION:Leadership Auditions
LOCATION:
END:VEVENT
BEGIN:VEVENT
SUMMARY:In Class Auditions
DTSTART;VALUE=DATE:20260420
DTEND;VALUE=DATE:20260424
UID:255976778046
DESCRIPTION:In Class Auditions
LOCATION:
END:VEVENT
BEGIN:VEVENT
SUMMARY:BOTC Skits
DTSTART;VALUE=DATE-TIME:20260420T070000Z
DTEND;VALUE=DATE-TIME:20260424T070000Z
UID:284149431640
DESCRIPTION:BOTC Skits
LOCATION:
END:VEVENT
BEGIN:VEVENT
SUMMARY:Busy
DTSTART;VALUE=DATE:20260420
DTEND;VALUE=DATE:20260424
UID:227005315493
DESCRIPTION:Busy
LOCATION:
END:VEVENT
BEGIN:VEVENT
SUMMARY:GE300 Sustainability Camp
DTSTART;VALUE=DATE:20260420
DTEND;VALUE=DATE:20260424
UID:260911918242
DESCRIPTION:GE300 Sustainability Camp
LOCATION:
END:VEVENT
BEGIN:VEVENT
SUMMARY:SOIS Earth Week
DTSTART;VALUE=DATE:20260419
DTEND;VALUE=DATE:20260424
UID:212869367478
DESCRIPTION:SOIS Earth Week
LOCATION:
END:VEVENT
BEGIN:VEVENT
SUMMARY:8:50～21:00
DTSTART;VALUE=DATE:20260419
DTEND;VALUE=DATE:20260424
UID:286897878201
DESCRIPTION:8:50～21:00
LOCATION:
END:VEVENT
BEGIN:VEVENT
SUMMARY:不可：広場
DTSTART;VALUE=DATE:20260419
DTEND;VALUE=DATE:20260424
UID:165300937120
DESCRIPTION:不可：広場
LOCATION:
END:VEVENT
BEGIN:VEVENT
SUMMARY:営業時間9:30～16:30（最終入場15:30）
DTSTART;VALUE=DATE:20260419
DTEND;VALUE=DATE:20260424
UID:180344635712
DESCRIPTION:
LOCATION:
END:VEVENT
BEGIN:VEVENT
SUMMARY:可：フレッシュネス前・交番前
DTSTART;VALUE=DATE:20260419
DTEND;VALUE=DATE:20260424
UID:188982671988
DESCRIPTION:可：フレッシュネス前・交番前
LOCATION:
END:VEVENT
BEGIN:VEVENT
SUMMARY:19:00
DTSTART;VALUE=DATE:20260419
DTEND;VALUE=DATE:20260424
UID:277748501222
DESCRIPTION:19:00
LOCATION:
END:VEVENT
BEGIN:VEVENT
SUMMARY:8:45～21:00開館
DTSTART;VALUE=DATE:20260419
DTEND;VALUE=DATE:20260424
UID:274694478268
DESCRIPTION:8:45～21:00開館
LOCATION:
END:VEVENT
BEGIN:VEVENT
SUMMARY:19:00
DTSTART;VALUE=DATE:20260419
DTEND;VALUE=DATE:20260424
UID:855658069749
DESCRIPTION:19:00
LOCATION:
END:VEVENT
BEGIN:VEVENT
SUMMARY:図書館9時-20時開館
DTSTART;VALUE=DATE:20260419
DTEND;VALUE=DATE:20260424
UID:235492835924
DESCRIPTION:図書館9時-20時開館
LOCATION:
END:VEVENT
BEGIN:VEVENT
SUMMARY:轉系申請【至24日】
DTSTART;VALUE=DATE:20260419
DTEND;VALUE=DATE:20260424
UID:116535654941
DESCRIPTION:轉系申請【至24日】
LOCATION:
END:VEVENT
BEGIN:VEVENT
SUMMARY:校本部高中物理、化學、地科作業調閱
DTSTART;VALUE=DATE:20260419
DTEND;VALUE=DATE:20260424
UID:445931261791
DESCRIPTION:校本部高中物理、化學、地科作業調閱
LOCATION:
END:VEVENT
BEGIN:VEVENT
SUMMARY:暫訂(本部)114-2全校體適能檢測
DTSTART;VALUE=DATE:20260419
DTEND;VALUE=DATE:20260424
UID:290115764842
DESCRIPTION:暫訂(本部)114-2全校體適能檢測
LOCATION:
END:VEVENT
BEGIN:VEVENT
SUMMARY:金石堂校園書展
DTSTART;VALUE=DATE:20260419
DTEND;VALUE=DATE:20260424
UID:266610243418
DESCRIPTION:金石堂校園書展
LOCATION:
END:VEVENT
BEGIN:VEVENT
SUMMARY:G1-G6 Q3 midterm week
DTSTART;VALUE=DATE:20260419
DTEND;VALUE=DATE:20260424
UID:212956265751
DESCRIPTION:G1-G6 Q3 midterm week
LOCATION:
END:VEVENT
BEGIN:VEVENT
SUMMARY:八年級班際籃球比賽
DTSTART;VALUE=DATE:20260419
DTEND;VALUE=DATE:20260424
UID:117193698007
DESCRIPTION:八年級班際籃球比賽
LOCATION:
END:VEVENT
BEGIN:VEVENT
SUMMARY:ดร.อลงกต EPMA 9.00-16.00
DTSTART;VALUE=DATE:20260419
DTEND;VALUE=DATE:20260424
UID:458246793822
DESCRIPTION:ดร.อลงกต EPMA 9.00-16.00
LOCATION:
END:VEVENT
BEGIN:VEVENT
SUMMARY:04/20 ~ 04/24 第一次作業檢查
DTSTART;VALUE=DATE:20260419
DTEND;VALUE=DATE:20260424
UID:140893548385
DESCRIPTION:04/20 ~ 04/24 第一次作業檢查
LOCATION:
END:VEVENT
BEGIN:VEVENT
SUMMARY:HEPiX Spring 2026 Workshop
DTSTART;VALUE=DATE:20260419
DTEND;VALUE=DATE:20260424
UID:321932026185
DESCRIPTION:Event from 2026-04-20 07:00:00+00:00 to 2026-04-24 13:30:00+00
 :00\n\nEvent URL: https://indico.cern.ch/event/1598655/\n\nSpeakers: Jorge
  Humberto Lucio Oliveira Gomes (LIP Laboratorio de Instrumentaco e Fisica 
 Experimental de Particulas)\, Jose Flix Molina (CIEMAT - Centro de Investi
 gaciones  Energéticas Medioambientales y Tec. (ES))\, Tomoaki Nakamura\, 
 Ofer Rind (Brookhaven National Laboratory)\n\nHEPiX Spring 2026 at LIP in 
 Lisbon\nThe HEPiX forum brings together worldwide information technology 
 staff\, including system administrators\, system engineers\, and managers 
 from High Energy Physics and Nuclear Physics laboratories and institutes\,
  to foster a learning and sharing experience between sites facing scientif
 ic computing and data challenges.\nParticipating sites include BNL\, CERN\
 , DESY\, FNAL\, IHEP\, IN2P3\, INFN\, IRFU\, JLAB\, KEK\, LBNL\, LIP\, NDG
 F\, NIKHEF\, PIC\, RAL\, SLAC\, TRIUMF\, and many other research labs and 
 universities from all over the world.\nMore information about the HEPiX wo
 rkshops\, the working groups (who report regularly at the workshops) and o
 ther events is available on the HEPiX Web site.\n\nThis workshop will be h
 osted by LIP and CNCA and will be held at ISCTE in Lisbon.\nImportant dat
 es:\n\nSubmission of abstracts: 22nd January to 5th April\nEarly bird reg
 istration: 22nd January to 16th March\nLate registration: 17th March to 10
 th April\nEvent: 20th April to 24th April\n\n \n\n\n\n\nSPONSORS\n\n\n\n\
 nGOLD\n\n \n \n \n\n \n\n\n\n\n \n \n\n\n \n \n\n\n\n\n \nACADEMI
 C COLLABORATIONS\n\n \n\n \n\n \n\n\nhttps://indico.cern.ch/event/15986
 55/\n\nZoom: https://cern.zoom.us/j/69938449703?pwd=tsnChIyXttajIkcxfM9GrH
 ae4LI7F9.1
LOCATION:Auditório J.J. Laginha (ISCTE Instituto Universitário de Lisboa
 )
END:VEVENT
BEGIN:VEVENT
SUMMARY:React
DTSTART;VALUE=DATE-TIME:20260419T220000Z
DTEND;VALUE=DATE-TIME:20260424T220000Z
UID:226747823677
DESCRIPTION:React
LOCATION:
END:VEVENT
BEGIN:VEVENT
SUMMARY:PRE-PREP | Individual Photos 
DTSTART;VALUE=DATE:20260419
DTEND;VALUE=DATE:20260424
UID:265427546305
DESCRIPTION:PRE-PREP | Individual Photos 
LOCATION:LIBRARY
END:VEVENT
BEGIN:VEVENT
SUMMARY:Yr 10 Assessment Maths
DTSTART;VALUE=DATE:20260419
DTEND;VALUE=DATE:20260424
UID:169831262747
DESCRIPTION:Yr 10 Assessment Maths
LOCATION:
END:VEVENT
BEGIN:VEVENT
SUMMARY:MFL GCSE Speaking Exam wk 1 of 2
DTSTART;VALUE=DATE:20260419
DTEND;VALUE=DATE:20260424
UID:190145722957
DESCRIPTION:MFL GCSE Speaking Exam wk 1 of 2
LOCATION:
END:VEVENT
BEGIN:VEVENT
SUMMARY:Spirit and readers week. 
DTSTART;VALUE=DATE:20260419
DTEND;VALUE=DATE:20260424
UID:205556823752
DESCRIPTION:A week of daily dress up opportunities and participation in di
 fferent reading and fun activities for ALL Grades.\nFNL will be on Friday 
 evening from 4:30 - 8:00 P.M.
LOCATION:
END:VEVENT
BEGIN:VEVENT
SUMMARY:Week B
DTSTART;VALUE=DATE:20260419
DTEND;VALUE=DATE:20260424
UID:312713820216
DESCRIPTION:Week B
LOCATION:
END:VEVENT
BEGIN:VEVENT
SUMMARY:No School - April Break (No HS Internships)
DTSTART;VALUE=DATE:20260420
DTEND;VALUE=DATE:20260425
UID:216076213307
DESCRIPTION:No School - April Break (No HS Internships)
LOCATION:
END:VEVENT
BEGIN:VEVENT
SUMMARY:No School-April Vacation
DTSTART;VALUE=DATE:20260420
DTEND;VALUE=DATE:20260425
UID:179201218688
DESCRIPTION:No School-April Vacation
LOCATION:
END:VEVENT
BEGIN:VEVENT
SUMMARY:Spring Recess
DTSTART;VALUE=DATE:20260420
DTEND;VALUE=DATE:20260425
UID:232561021321
DESCRIPTION:Spring Recess
LOCATION:
END:VEVENT
BEGIN:VEVENT
SUMMARY:Aspire Math Testing
DTSTART;VALUE=DATE:20260420
DTEND;VALUE=DATE:20260425
UID:200533064164
DESCRIPTION:Aspire Math Testing
LOCATION:
END:VEVENT
BEGIN:VEVENT
SUMMARY:東海道五拾三次展
DTSTART;VALUE=DATE:20260419
DTEND;VALUE=DATE:20260425
UID:160246584013
DESCRIPTION:東海道五拾三次展
LOCATION:
END:VEVENT
BEGIN:VEVENT
SUMMARY:新生網路報到開始
DTSTART;VALUE=DATE:20260419
DTEND;VALUE=DATE:20260425
UID:228542635015
DESCRIPTION:新生網路報到開始
LOCATION:
END:VEVENT
BEGIN:VEVENT
SUMMARY:Semana del Libro
DTSTART;VALUE=DATE:20260419
DTEND;VALUE=DATE:20260425
UID:323152463313
DESCRIPTION:+ INFO
LOCATION:Breña Baja
END:VEVENT
BEGIN:VEVENT
SUMMARY:小一新生線上報到
DTSTART;VALUE=DATE-TIME:20260420T000000Z
DTEND;VALUE=DATE-TIME:20260426T040000Z
UID:323373853095
DESCRIPTION:小一新生線上報到
LOCATION:
END:VEVENT
BEGIN:VEVENT
SUMMARY:Mississippi Trip
DTSTART;VALUE=DATE:20260420
DTEND;VALUE=DATE:20260426
UID:997757117964
DESCRIPTION:Mississippi Trip
LOCATION:
END:VEVENT
BEGIN:VEVENT
SUMMARY:National Library Week
DTSTART;VALUE=DATE:20260420
DTEND;VALUE=DATE:20260426
UID:299555115846
DESCRIPTION:Find Your Joy!
LOCATION:
END:VEVENT
BEGIN:VEVENT
SUMMARY:PIT TECH WEEK
DTSTART;VALUE=DATE-TIME:20260420T050000Z
DTEND;VALUE=DATE-TIME:20260426T050000Z
UID:139778679804
DESCRIPTION:PIT TECH WEEK
LOCATION:
END:VEVENT
BEGIN:VEVENT
SUMMARY:※当日入った予約は反映されない場合があります
DTSTART;VALUE=DATE:20260419
DTEND;VALUE=DATE:20260426
UID:207412794971
DESCRIPTION:※当日入った予約は反映されない場合があり
 ます
LOCATION:
END:VEVENT
BEGIN:VEVENT
SUMMARY:切手趣味週間
DTSTART;VALUE=DATE-TIME:20260419T150000Z
DTEND;VALUE=DATE-TIME:20260426T150000Z
UID:917436180663
DESCRIPTION:切手趣味週間
LOCATION:
END:VEVENT
BEGIN:VEVENT
SUMMARY:115學年新生線上報到
DTSTART;VALUE=DATE:20260419
DTEND;VALUE=DATE:20260426
UID:198062250435
DESCRIPTION:115學年新生線上報到
LOCATION:
END:VEVENT
BEGIN:VEVENT
SUMMARY:(4/20~4/26)期中考週
DTSTART;VALUE=DATE:20260419
DTEND;VALUE=DATE:20260426
UID:547861473540
DESCRIPTION:(4/20~4/26)期中考週
LOCATION:
END:VEVENT
BEGIN:VEVENT
SUMMARY:Global Book Crawl - Downtown Austin
DTSTART;VALUE=DATE:20260420
DTEND;VALUE=DATE:20260427
UID:251783820090
DESCRIPTION:Stop by any of our fabulous bookstores\, take a picture of you
 r newest read\, and then use #globalbookcrawl and the store's name and you
  will receive 10% off your purchase.\nSweet Reads - Hey Darling - Hot Off 
 the Press
LOCATION:downtown Austin MN
END:VEVENT
BEGIN:VEVENT
SUMMARY:Swimming Lessons | Snr Y4-6
DTSTART;VALUE=DATE-TIME:20260419T160000Z
DTEND;VALUE=DATE-TIME:20260430T160000Z
UID:826774997006
DESCRIPTION:Swimming Lessons | Snr Y4-6
LOCATION:
END:VEVENT
BEGIN:VEVENT
SUMMARY:■世界閱讀週
DTSTART;VALUE=DATE:20260419
DTEND;VALUE=DATE:20260430
UID:231824170504
DESCRIPTION:■世界閱讀週
LOCATION:
END:VEVENT
BEGIN:VEVENT
SUMMARY:「懂你‧你懂──SEL ⨯ 閱讀你的世界」書展
DTSTART;VALUE=DATE:20260419
DTEND;VALUE=DATE:20260430
UID:200383529856
DESCRIPTION:「懂你‧你懂──SEL ⨯ 閱讀你的世界」書展
LOCATION:圖書館閱覽室
END:VEVENT
BEGIN:VEVENT
SUMMARY:จัดทำ Action Plan & Budget
DTSTART;VALUE=DATE:20260419
DTEND;VALUE=DATE:20260430
UID:185479393764
DESCRIPTION:จัดทำ Action Plan & Budget
LOCATION:
END:VEVENT
BEGIN:VEVENT
SUMMARY:ひとみ食堂祭り
DTSTART;VALUE=DATE:20260419
DTEND;VALUE=DATE:20260515
UID:889028463688
DESCRIPTION:ひとみ食堂祭り
LOCATION:
END:VEVENT
BEGIN:VEVENT
SUMMARY:【註課】(4/20~5/15) 第9~12週學生線上申請停修 。
DTSTART;VALUE=DATE:20260419
DTEND;VALUE=DATE:20260515
UID:161722833064
DESCRIPTION:【註課】(4/20~5/15) 第9~12週學生線上申請停修 。
LOCATION:
END:VEVENT
BEGIN:VEVENT
SUMMARY:PE Lessons - Hockey Yr 3-6
DTSTART;VALUE=DATE-TIME:20260420T140000Z
DTEND;VALUE=DATE-TIME:20260518T140000Z
UID:305540741762
DESCRIPTION:PE Lessons - Hockey Yr 3-6
LOCATION:Holy Family Catholic Primary School\, 40 Isabella Dr\, Skennars H
 ead NSW 2478\, Australia
END:VEVENT
END:VCALENDAR
