BEGIN:VCALENDAR
VERSION:2.0
PRODID:-//chikkutakku.com//RDFCal 1.0//EN
X-WR-CALDESC:GoogleカレンダーやiCalendar形式情報を共有シェ
アしましょう。近所のイベントから全国のイベントま
で今日のイベント検索やスケジュールを決めるならち
っくたっく
X-WR-CALNAME:ちっくたっく
X-WR-TIMEZONE:UTC
BEGIN:VEVENT
SUMMARY:二丁目の魁カミングアウト『FREE GAY LIVE』
DTSTART;VALUE=DATE-TIME:20260421T110000Z
DTEND;VALUE=DATE-TIME:20260421T120000Z
UID:223543231079
DESCRIPTION:https://x.com/sakigake_gay/status/2045843655047713202
【
⭐️次回のライブはこちら!】
『FREE GAY LIVE』
■日時
2026/4/21(火)
OPEN 19:15 / START 20:00
■
会場
AiSOTOPE LOUNGE
■料金
入場無料🆓(+1drink)
🥤前売券は4/20(月)23:59まで!
https://livepocket.jp/e/20260421_free
※本
公演の先行抽選チケットを2枚取得の方はご同行者様と
ご一緒に入場をお願いします。
(ご本人様確認は先行
抽選チケットを購入された方のみ必要となります。)
#にちょがけ
#二丁魁
#ゲイアイドル
LOCATION:AiSOTOPE LOUNGE
END:VEVENT
END:VCALENDAR